BEGIN:VCALENDAR
VERSION:2.0
PRODID:-//wp-events-plugin.com//7.2.3.1//EN
TZID:America/Detroit
X-WR-TIMEZONE:America/Detroit
BEGIN:VEVENT
UID:31393@arabamerica.com
DTSTART;TZID=America/Detroit:20231104T180000
DTEND;TZID=America/Detroit:20231104T210000
DTSTAMP:20230717T160119Z
URL:https://www.arabamerica.com/events/arabian-nights-ale/
SUMMARY:Arabian Nights & Ale
DESCRIPTION:Pensacola\, FL\nTake a magical carpet ride through an Arabian n
 ight in the Biergarten! Pile your plate with mouth-watering kababs\, gyros
  and more from Jordan Valley's food truck. Then relax and enjoy elegant be
 lly dancing performances by Gina Nolan of Emerald Coast Belly Dance as you
  inhale a variety of enticing non-tobacco and non-nicotine shisha premium 
 fresh smoke flavors offered by TnT Hookahz. An open drum jam session aroun
 d the bonfire will follow\, so bring your percussion instrument and join t
 he fun! (Extra instruments will be available to borrow.) As usual\, Gary
 ’s will offer an amazing selection of beer\, wine\, ciders\, seltzers an
 d non-alcoholic beverages!
ATTACH;FMTTYPE=image/jpeg:https://www.arabamerica.com/wp-content/uploads/2
 023/07/Screen-Shot-2023-07-17-at-11.53.54-AM.png
CATEGORIES:Music/Folk/World
LOCATION:Gary's Brewery & Biergarten\, 3403 Gulf Beach Highway\, Pensacola\
 , FL\, 32507\, United States
GEO:30.375679;-87.319056
X-APPLE-STRUCTURED-LOCATION;VALUE=URI;X-ADDRESS=3403 Gulf Beach Highway\, P
 ensacola\, FL\, 32507\, United States;X-APPLE-RADIUS=100;X-TITLE=Gary's Br
 ewery & Biergarten:geo:30.375679,-87.319056
END:VEVENT
BEGIN:VTIMEZONE
TZID:America/Detroit
X-LIC-LOCATION:America/Detroit
BEGIN:DAYLIGHT
DTSTART:20230312T030000
TZOFFSETFROM:-0500
TZOFFSETTO:-0400
TZNAME:EDT
END:DAYLIGHT
END:VTIMEZONE
END:VCALENDAR