BEGIN:VCALENDAR
VERSION:2.0
PRODID:-//wp-events-plugin.com//7.2.3.1//EN
TZID:America/Detroit
X-WR-TIMEZONE:America/Detroit
BEGIN:VEVENT
UID:36108@arabamerica.com
DTSTART;TZID=America/Detroit:20260829T170000
DTEND;TZID=America/Detroit:20260829T220000
DTSTAMP:20260331T183015Z
URL:https://www.arabamerica.com/events/arabian-nights-awards-gala/
SUMMARY:Arabian Nights Awards Gala
DESCRIPTION:Get ready for a magical night full of glitz\, glamour\, and unf
 orgettable awards celebrating Arabian excellence.\n\nArabian Nights: 2nd A
 nnual Awards Gala\nHosted by the Arab American Business Chamber\n\nStep in
 to an unforgettable evening of elegance\, culture\, and celebration at our
  2nd Annual Arabian Nights Awards Gala—a signature event honoring excell
 ence in business\, leadership\, and community impact.\n\nThis highly antic
 ipated evening will bring together distinguished leaders\, entrepreneurs\,
  and changemakers for a night inspired by the magic and beauty of Arabian 
 heritage.\n\n&#x2728\; What to Expect:\n• Red carpet reception\n• Exqu
 isite 3-course dinner\n• Prestigious awards ceremony\n• Live entertain
 ment\n• Elevated networking experience\n\nCelebrate the achievements of 
 outstanding individuals and organizations while connecting with a vibrant 
 and influential community.\n\n&#x1f4c5\; Date: Saturday\, August 29\, 2026
 \n&#x1f554\; Time: 5:00 PM – 10:00 PM\n&#x1f4cd\; Location: Embassy Suit
 es by Hilton – Garden Grove\n\n&#x1f39f\; Ticket Options:\n• Early Bir
 d Specials available for a limited time\n• Standard Admission\n• VIP E
 xperience with exclusive perks and premium seating\n\nThis is more than a 
 gala—it is a celebration of culture\, connection\, and impact.\n\nSecure
  your seat and be part of an extraordinary night.
ATTACH;FMTTYPE=image/jpeg:https://www.arabamerica.com/wp-content/uploads/2
 026/03/image-43-2.webp
LOCATION:Embassy Suites by Hilton Anaheim South\, 11767 Harbor Blvd\, Garde
 n Grove\, CA\, 92840\, United States
GEO:33.79143;-117.916788
X-APPLE-STRUCTURED-LOCATION;VALUE=URI;X-ADDRESS=11767 Harbor Blvd\, Garden 
 Grove\, CA\, 92840\, United States;X-APPLE-RADIUS=100;X-TITLE=Embassy Suit
 es by Hilton Anaheim South:geo:33.79143,-117.916788
END:VEVENT
BEGIN:VTIMEZONE
TZID:America/Detroit
X-LIC-LOCATION:America/Detroit
BEGIN:DAYLIGHT
DTSTART:20260308T030000
TZOFFSETFROM:-0500
TZOFFSETTO:-0400
TZNAME:EDT
END:DAYLIGHT
END:VTIMEZONE
END:VCALENDAR