BEGIN:VCALENDAR
VERSION:2.0
PRODID:-//wp-events-plugin.com//7.2.3.1//EN
TZID:America/Detroit
X-WR-TIMEZONE:America/Detroit
BEGIN:VEVENT
UID:34555@arabamerica.com
DTSTART;TZID=America/Detroit:20250614T170000
DTEND;TZID=America/Detroit:20250614T200000
DTSTAMP:20250610T201605Z
URL:https://www.arabamerica.com/events/arabian-nights-morocco/
SUMMARY:Arabian Nights: Morocco
DESCRIPTION:\n\n\n\n\n\n\n\n\nJoin us on June 14 for an enchanting journey 
 through Morocco's rich culture and traditions. We will be catering traditi
 onal Moroccan food as well as have trivia night about the country and its 
 culture\, with the winners getting unique prizes from the country! Food is
  on a first come\, first serve basis. Please arrive on time.\n\n\n\n\n\n\n
 \n\n\n\n\n\n\n\n\n
ATTACH;FMTTYPE=image/jpeg:https://www.arabamerica.com/wp-content/uploads/2
 025/06/Screenshot-2025-06-10-at-11.03.57 PM.png
LOCATION:Arab Cultural Community Center\, 2 Plaza Street\, San Francisco\, 
 California\, 94116\, United States
GEO:37.749019;-122.460015
X-APPLE-STRUCTURED-LOCATION;VALUE=URI;X-ADDRESS=2 Plaza Street\, San Franci
 sco\, California\, 94116\, United States;X-APPLE-RADIUS=100;X-TITLE=Arab C
 ultural Community Center:geo:37.749019,-122.460015
END:VEVENT
BEGIN:VTIMEZONE
TZID:America/Detroit
X-LIC-LOCATION:America/Detroit
BEGIN:DAYLIGHT
DTSTART:20250309T030000
TZOFFSETFROM:-0500
TZOFFSETTO:-0400
TZNAME:EDT
END:DAYLIGHT
END:VTIMEZONE
END:VCALENDAR