BEGIN:VCALENDAR
VERSION:2.0
PRODID:-//wp-events-plugin.com//7.2.3.1//EN
TZID:America/Detroit
X-WR-TIMEZONE:America/Detroit
BEGIN:VEVENT
UID:31481@arabamerica.com
DTSTART;TZID=America/Detroit:20230903T143000
DTEND;TZID=America/Detroit:20230903T163000
DTSTAMP:20230801T230150Z
URL:https://www.arabamerica.com/events/arabian-nights-tea-2/
SUMMARY:Arabian Nights Tea
DESCRIPTION:Enjoy a 3 course tea with a princess! Your child will be given 
 the royal treatment\; hanging out\, making crafts\, singing songs\, and be
 ing served by a princess in a beautiful tea house.\n\nKids Meal:\n\nDrink:
  Lemonade\n\n1st Course: Fruit with Chantilly Cream\n\n2nd Course: 4 Bite-
 size sandwiches\n\n3rd Course: S'mores Cupcake\n\nAdult Meal:\n\nDrinks: H
 ot Tea or Lemonade\n\n1st Course: Buttermilk Scone with Chantilly Cream an
 d Lemon Curd\n\n2nd Course: 4 Bite Size Sandwiches\n\n3rd Course: Small Pa
 rfait\, Custard\, and 5 Bite Sized Dessert
ATTACH;FMTTYPE=image/jpeg:https://www.arabamerica.com/wp-content/uploads/2
 023/08/445334f0e9bc97818538172fbae4cdb32976484d178910caa103736b341321e2-ri
 mg-w400-h400-gmir.jpg
CATEGORIES:#arabic
END:VEVENT
BEGIN:VTIMEZONE
TZID:America/Detroit
X-LIC-LOCATION:America/Detroit
BEGIN:DAYLIGHT
DTSTART:20230312T030000
TZOFFSETFROM:-0500
TZOFFSETTO:-0400
TZNAME:EDT
END:DAYLIGHT
END:VTIMEZONE
END:VCALENDAR