BEGIN:VCALENDAR
VERSION:2.0
PRODID:-//wp-events-plugin.com//7.2.3.1//EN
TZID:America/Detroit
X-WR-TIMEZONE:America/Detroit
BEGIN:VEVENT
UID:31491@arabamerica.com
DTSTART;TZID=America/Detroit:20230903T000000
DTEND;TZID=America/Detroit:20230904T000000
DTSTAMP:20230802T004145Z
URL:https://www.arabamerica.com/events/arabian-nights-tea-3/
SUMMARY:Arabian Nights Tea
DESCRIPTION:Join Arab Princess at the Spicery for a 3 Course Tea\, crafts\,
  Sing Along\, and more!\n\nAbout this Event\n\nEnjoy a 3 course tea with a
  princess! Your child will be given the royal treatment\; hanging out\, ma
 king crafts\, singing songs\, and being served by a princess in a beautifu
 l tea house.\n\nKids Meal:\n\nDrink: Lemonade\n\n1st Course: Fruit with Ch
 antilly Cream\n\n2nd Course: 4 Bite-size sandwiches\n\n3rd Course: S'mores
  Cupcake\n\nAdult Meal:\n\nDrinks: Hot Tea or Lemonade\n\n1st Course: Butt
 ermilk Scone with Chantilly Cream and Lemon Curd\n\n2nd Course: 4 Bite Siz
 e Sandwiches\n\n3rd Course: Small Parfait\, Custard\, and 5 Bite Sized Des
 serts\n\n\n&nbsp\;\n\n\nAlso check out other Workshops in Glendale\, Kid
 s Events &amp\; Activities in Glendale.
ATTACH;FMTTYPE=image/jpeg:https://www.arabamerica.com/wp-content/uploads/2
 023/08/b450349855b9a8eafe7176a355f394fde0a0785a1e38f504ddeb4ff96850c6fb-ri
 mg-w240-h320-gmir.jpeg
CATEGORIES:Arab,Arab Ameircan Event,Arab American,Arabian Night,Arabian
 Nights
LOCATION:The Spicery In Our 1895 Home\, 7141 North 59th Avenue\, Glendale\,
  AZ\, United States
GEO:33.541322;-112.185868
X-APPLE-STRUCTURED-LOCATION;VALUE=URI;X-ADDRESS=7141 North 59th Avenue\, Gl
 endale\, AZ\, United States;X-APPLE-RADIUS=100;X-TITLE=The Spicery In Our 
 1895 Home:geo:33.541322,-112.185868
END:VEVENT
BEGIN:VTIMEZONE
TZID:America/Detroit
X-LIC-LOCATION:America/Detroit
BEGIN:DAYLIGHT
DTSTART:20230312T030000
TZOFFSETFROM:-0500
TZOFFSETTO:-0400
TZNAME:EDT
END:DAYLIGHT
END:VTIMEZONE
END:VCALENDAR