BEGIN:VCALENDAR
VERSION:2.0
PRODID:-//wp-events-plugin.com//7.2.3.1//EN
TZID:America/Detroit
X-WR-TIMEZONE:America/Detroit
BEGIN:VEVENT
UID:34560@arabamerica.com
DTSTART;TZID=America/Detroit:20250613T183000
DTEND;TZID=America/Detroit:20250613T193000
DTSTAMP:20250610T214410Z
URL:https://www.arabamerica.com/events/arabian-rhythms-freestyle-belly-dan
 ce-gathering-fridays/
SUMMARY:Arabian Rhythms: Freestyle Belly Dance Gathering Fridays
DESCRIPTION:\n\nJoin me for the FUN of it and let’s vibe together to the 
 hottest Arabic beats. No technique\, no steps or choreography to follow!\n
 \n\n\n\n\n\n\n\n\n\n\n\n\n\n\n\n\n\n\n\n\n\nJoin me every Friday at La Vie
  Dance Studios from 6:30 to 7:30 PM for a unique dance experience like no 
 other!\n\nThis isn't a class—there's no teacher\, no choreography\, no s
 teps to follow. Just you\, the music and your vibe.\n\nWhat to expect:\n\n
  	A judgment-free space to move your body to Arabic music\n 	Freestyle bel
 ly dancing—your style\, your way\n 	Sing along\, let go and feel the bea
 t\n 	All levels welcome—no dance experience needed\n\nWhether you are a 
 seasoned belly dancer or just love Arabic music and want to move\, this is
  your hour to connect\, celebrate and express yourself.\n\nBring your ener
 gy\, your friends and your favorite hip scarf if you have one—let's danc
 e!\n\n\n\n\n\n\n\n\n\n\n\n\n\n\n\n\n\n\n\n\n
ATTACH;FMTTYPE=image/jpeg:https://www.arabamerica.com/wp-content/uploads/2
 025/06/Screenshot-2025-06-11-at-12.36.14 AM.png
LOCATION:La Vie Dance Studios\, 1255 West Morena Boulevard\, San Diego\, Ca
 lifornia\, 92110\, United States
GEO:32.769683;-117.203084
X-APPLE-STRUCTURED-LOCATION;VALUE=URI;X-ADDRESS=1255 West Morena Boulevard\
 , San Diego\, California\, 92110\, United States;X-APPLE-RADIUS=100;X-TITL
 E=La Vie Dance Studios:geo:32.769683,-117.203084
END:VEVENT
BEGIN:VTIMEZONE
TZID:America/Detroit
X-LIC-LOCATION:America/Detroit
BEGIN:DAYLIGHT
DTSTART:20250309T030000
TZOFFSETFROM:-0500
TZOFFSETTO:-0400
TZNAME:EDT
END:DAYLIGHT
END:VTIMEZONE
END:VCALENDAR