BEGIN:VCALENDAR
VERSION:2.0
PRODID:-//wp-events-plugin.com//7.2.3.1//EN
TZID:America/Detroit
X-WR-TIMEZONE:America/Detroit
BEGIN:VEVENT
UID:35001@arabamerica.com
DTSTART;TZID=America/Detroit:20250927T100000
DTEND;TZID=America/Detroit:20250927T160000
DTSTAMP:20250819T155041Z
URL:https://www.arabamerica.com/events/arabic-calligraphy-art-workshop-suf
 icorner/
SUMMARY:Arabic Calligraphy | Art Workshop - SufiCorner
DESCRIPTION:MONTCLAIR\, NJ\n\n\n\nArabic Calligraphy Workshop with Khalid C
 assado\n\n&#x1f4c5\; Date: Saturday\, September 27\, 2025\n\n&#x1f552\; Ti
 me: 10 AM – 4 PM\n\n&#x1f4cd\; Location: SufiCorner Arts\, Books &amp\; 
 Café | 202 Bellevue Ave\, Montclair\, NJ 07043\n\nJoin us at SufiCorner f
 or a full-day immersion into the timeless art of Arabic calligraphy with K
 halid Casado\, a master calligrapher trained under Nuria García and Ferha
 t Kurulu. Khalid brings the Ottoman tradition to life through hands-on ins
 truction in both form and meaning—offering participants the rare opportu
 nity to experience the spiritual and artistic depth of the Arabic script.\
 n\nWhether you are new to calligraphy or an experienced practitioner\, thi
 s workshop invites you to engage deeply with the craft\, learning its tech
 niques\, history\, and contemplative nature.\n\n&#x1f4b2\; Early Bird Regi
 stration: $50\n\nAll materials will be provided. Registration required.\n\
 n10% discount for SufiCorner members. To become a member before registrati
 on\, please visit our membership page.\n\nWe look forward to welcoming you
  to this day of study\, beauty\, and devotion through the visual language 
 of Islamic tradition.\n\nWatch the recap from the May 2025 Event.\n\n#Sufi
 Corner #Art #Calligraphy
ATTACH;FMTTYPE=image/jpeg:https://www.arabamerica.com/wp-content/uploads/2
 025/08/arabuc-.jpeg
LOCATION:SufiCorner Arts\, Books & Cafe\, 202 Bellevue Avenue\, Montclair\,
  New Jersey\, 07043\, United States
GEO:40.840511;-74.206159
X-APPLE-STRUCTURED-LOCATION;VALUE=URI;X-ADDRESS=202 Bellevue Avenue\, Montc
 lair\, New Jersey\, 07043\, United States;X-APPLE-RADIUS=100;X-TITLE=SufiC
 orner Arts\, Books & Cafe:geo:40.840511,-74.206159
END:VEVENT
BEGIN:VTIMEZONE
TZID:America/Detroit
X-LIC-LOCATION:America/Detroit
BEGIN:DAYLIGHT
DTSTART:20250309T030000
TZOFFSETFROM:-0500
TZOFFSETTO:-0400
TZNAME:EDT
END:DAYLIGHT
END:VTIMEZONE
END:VCALENDAR