BEGIN:VCALENDAR
VERSION:2.0
PRODID:-//wp-events-plugin.com//7.2.3.1//EN
TZID:America/Detroit
X-WR-TIMEZONE:America/Detroit
BEGIN:VEVENT
UID:30682@arabamerica.com
DTSTART;TZID=America/Detroit:20230411T120000
DTEND;TZID=America/Detroit:20230411T140000
DTSTAMP:20230314T133605Z
URL:https://www.arabamerica.com/events/arabic-calligraphy-event-2/
SUMMARY:Arabic Calligraphy Event
DESCRIPTION:CHICAGO\, IL\n\nPlease join on us on Tuesday\, April 11\, from 
 noon to 2 p.m. in the Butler Reception Room to write Arabic calligraphy. A
 ll art supplies and materials will be provided along with the Muslim Stude
 nt Association assisting with Arabic writing. There will also be packaged 
 snacks provided!
ATTACH;FMTTYPE=image/jpeg:https://www.arabamerica.com/wp-content/uploads/2
 023/03/Screenshot-2023-03-14-at-9.34.54-AM.png
CATEGORIES:Community,culture,Music/Folk/World
LOCATION:Butler Reception Room (L-203)\, 3700 W 103rd St\, Chicago\, IL 606
 55\, United States
GEO:41.708913;-87.712605
X-APPLE-STRUCTURED-LOCATION;VALUE=URI;X-ADDRESS=3700 W 103rd St\, Chicago\,
  IL 60655\, United States;X-APPLE-RADIUS=100;X-TITLE=Butler Reception Room
  (L-203):geo:41.708913,-87.712605
END:VEVENT
BEGIN:VTIMEZONE
TZID:America/Detroit
X-LIC-LOCATION:America/Detroit
BEGIN:DAYLIGHT
DTSTART:20230312T030000
TZOFFSETFROM:-0500
TZOFFSETTO:-0400
TZNAME:EDT
END:DAYLIGHT
END:VTIMEZONE
END:VCALENDAR