BEGIN:VCALENDAR
VERSION:2.0
PRODID:-//wp-events-plugin.com//7.2.3.1//EN
TZID:America/Detroit
X-WR-TIMEZONE:America/Detroit
BEGIN:VEVENT
UID:35099@arabamerica.com
DTSTART;TZID=America/Chicago:20250928T133000
DTEND;TZID=America/Chicago:20250928T153000
DTSTAMP:20250910T001024Z
URL:https://www.arabamerica.com/events/arabic-calligraphy-workshop-6/
SUMMARY:Arabic Calligraphy Workshop
DESCRIPTION:COLUMBUS\, OH\n\nLearn the intricacies and enjoy the beauty of 
 the Arabic Calligraphy world with instructor and calligraphy master\, Hass
 an Qureshi. You'll spend the afternoon learning all about this beautiful a
 nd historic artform along with why it's such an important tenant in Islam.
  No previous knowledge is necessary and you'll leave with the ability to u
 se a Qalam (Calligraphy pen) and your own personal Arabic Calligraphy art 
 piece!\n\nThis workshop is a collaboration with local artist Hassan Quresh
 i and the Hilltop Arts Collective. We thank Hassan for sharing his amazing
  talent with us!
LOCATION:Columbus Metropolitan Library: Hilltop Branch\, 511 South Hague Av
 enue\, Columbus\, Ohio \, 43204\, United States
GEO:39.944526;-83.073576
X-APPLE-STRUCTURED-LOCATION;VALUE=URI;X-ADDRESS=511 South Hague Avenue\, Co
 lumbus\, Ohio \, 43204\, United States;X-APPLE-RADIUS=100;X-TITLE=Columbus
  Metropolitan Library: Hilltop Branch:geo:39.944526,-83.073576
END:VEVENT
BEGIN:VTIMEZONE
TZID:America/Chicago
X-LIC-LOCATION:America/Chicago
BEGIN:DAYLIGHT
DTSTART:20250309T030000
TZOFFSETFROM:-0600
TZOFFSETTO:-0500
TZNAME:CDT
END:DAYLIGHT
END:VTIMEZONE
END:VCALENDAR