BEGIN:VCALENDAR
VERSION:2.0
PRODID:-//wp-events-plugin.com//7.2.3.1//EN
TZID:America/Detroit
X-WR-TIMEZONE:America/Detroit
BEGIN:VEVENT
UID:36003@arabamerica.com
DTSTART;TZID=America/Detroit:20260328T130000
DTEND;TZID=America/Detroit:20260328T160000
DTSTAMP:20260309T170443Z
URL:https://www.arabamerica.com/events/arabic-calligraphy-workshop-7/
SUMMARY:Arabic Calligraphy Workshop
DESCRIPTION:With Master Arabic calligrapher\, Nihad Dukhan
ATTACH;FMTTYPE=image/jpeg:https://www.arabamerica.com/wp-content/uploads/2
 026/03/WorkshhopFlyer.png
LOCATION:2425 Virginia Ave NW\, 2425 Virginia Ave NW\, Washington DC\, Unit
 ed States
GEO:38.899105;-77.052534
X-APPLE-STRUCTURED-LOCATION;VALUE=URI;X-ADDRESS=2425 Virginia Ave NW\, Wash
 ington DC\, United States;X-APPLE-RADIUS=100;X-TITLE=2425 Virginia Ave NW:
 geo:38.899105,-77.052534
END:VEVENT
BEGIN:VTIMEZONE
TZID:America/Detroit
X-LIC-LOCATION:America/Detroit
BEGIN:DAYLIGHT
DTSTART:20260308T030000
TZOFFSETFROM:-0500
TZOFFSETTO:-0400
TZNAME:EDT
END:DAYLIGHT
END:VTIMEZONE
END:VCALENDAR