BEGIN:VCALENDAR
VERSION:2.0
PRODID:-//wp-events-plugin.com//7.2.3.1//EN
TZID:America/Detroit
X-WR-TIMEZONE:America/Detroit
BEGIN:VEVENT
UID:31781@arabamerica.com
DTSTART;TZID=America/Detroit:20230902T100000
DTEND;TZID=America/Detroit:20230902T100000
DTSTAMP:20231013T230014Z
URL:https://www.arabamerica.com/events/arabic-classes-for-kids-youth-at-ar
 ab-american-center-houston-2/
SUMMARY:Arabic Classes for Kids & Youth at Arab American Center Houston
DESCRIPTION:\n\n\n\n\n Arabic Language Classes\n\nDr. Amer Sabbagh ACC Ara
 bic School at the Arab American Cultural and Community Center  (For Kids 
 4 years old and up to 15 years)\nاهلا و سهلا بكم\nMEET THE TEA
 CHERS: Saturday\, September 2 at 10 a.m.\n\nFIRST DAY OF CLASSES: Saturd
 ay\, September 9\n\nRegister your child for our weekend Arabic language c
 lasses. Classes meet  weekly on Saturdays. Classes are held from 10 a
 .m. to 1 p.m. for kids and 10 a.m. to 12 p.m. for youth\n\nThe school foc
 uses exclusively on teaching Arabic language in a neutral environment\, a
 way from religion\, nationality\, or politics. We make our classes an Ara
 bic language learning and cultural experience opportunity through a combi
 nation of language lesson\, weekly themes\, conversational time\, and ha
 nds-on fun extra curriculum activities including Arts &amp\; Crafts\, Arab
 ic songs &amp\; movies\, splash day\, Arabic software interactive games\, 
 and more! The kids will be divided by age and/or level group.\n\nThe clas
 ses are suitable for all kids whether they are from Arab origins or non-Ar
 ab.\n\nFees: Application forms and Fees will be collected onsite\n\nWe do 
 offer siblings discount\n\nFollow us on our Arabic School Facebook page (
 Dr. Amer Sabbagh ACC Arabic School Facebook) to check our School events &
 amp\; activities\n\nTo learn more about the school and to register\, plea
 se email us at school@acchouston.org or call 832.351.3366 \n\n*We re
 serve the right to cancel any class level if we do not reach the minimum\,
  in which case we will refund the full amount. The Minimum number to hold
  any class level is 5 students.\n\n\n\n\n\n\n\n\nTags\n\n\n 	United States
  Events\n 	Texas Events\n 	Things to do in Houston\, TX\n 	Houston Classes
 \n 	Houston Family &amp\; Education Classes\n 	#arabic\n 	#arabic_language
 \n 	#arabic_culture\n\n\n
ATTACH;FMTTYPE=image/jpeg:https://www.arabamerica.com/wp-content/uploads/2
 023/10/https___cdn.evbuc_.com_images_574542369_139923218955_1_original.jpe
 g
CATEGORIES:#arabic,Arab,Arab America,Arab American
LOCATION:The Arab American Cultural & Community Center\, 10555 Stancliff Rd
  \, Houston\, TX\, United States
GEO:29.6564208;-95.56604440000001
X-APPLE-STRUCTURED-LOCATION;VALUE=URI;X-ADDRESS=10555 Stancliff Rd \, Houst
 on\, TX\, United States;X-APPLE-RADIUS=100;X-TITLE=The Arab American Cultu
 ral & Community Center:geo:29.6564208,-95.56604440000001
END:VEVENT
BEGIN:VTIMEZONE
TZID:America/Detroit
X-LIC-LOCATION:America/Detroit
BEGIN:DAYLIGHT
DTSTART:20230312T030000
TZOFFSETFROM:-0500
TZOFFSETTO:-0400
TZNAME:EDT
END:DAYLIGHT
END:VTIMEZONE
END:VCALENDAR