BEGIN:VCALENDAR
VERSION:2.0
PRODID:-//wp-events-plugin.com//7.2.3.1//EN
TZID:America/Detroit
X-WR-TIMEZONE:America/Detroit
BEGIN:VEVENT
UID:32257@arabamerica.com
DTSTART;TZID=America/Detroit:20230902T000000
DTEND;TZID=America/Detroit:20240518T000000
DTSTAMP:20240219T153958Z
URL:https://www.arabamerica.com/events/arabic-classes-for-kids-youth-at-ar
 ab-american-center-houston-3/
SUMMARY:Arabic Classes for Kids & Youth at Arab American Center Houston
DESCRIPTION:&nbsp\;\n\n[caption id="attachment_245130" align="alignnone" wi
 dth="300"] Arabic Back to Arabic School's promotional logo.[/caption]\n\n&
 nbsp\;\n\nHOUSTON\, TEXAS\n\nArabic Language Classes\n\nDr. Amer Sabbagh A
 CC Arabic School at the Arab American Cultural and Community Center  (For
  Kids 4 years old and up to 15 years)\nاهلا و سهلا بكم\nMEET T
 HE TEACHERS: Saturday\, September 2 at 10 a.m.\n\nFIRST DAY OF CLASSES: Sa
 turday\, September 9\n\nRegister your child for our weekend Arabic langua
 ge classes. Classes meet  weekly on Saturdays. Classes are held from 1
 0 a.m. to 1 p.m. for kids and 10 a.m. to 12 p.m. for youth\n\nThe school 
 focuses exclusively on teaching Arabic language in a neutral environment\,
  away from religion\, nationality\, or politics. We make our classes an 
 Arabic language learning and cultural experience opportunity through a co
 mbination of language lesson\, weekly themes\, conversational time\, and
  hands-on fun extra curriculum activities including Arts &amp\; Crafts\, A
 rabic songs &amp\; movies\, splash day\, Arabic software interactive games
 \, and more! The kids will be divided by age and/or level group.\n\nThe c
 lasses are suitable for all kids whether they are from Arab origins or non
 -Arab.\n\nFees: Application forms and Fees will be collected onsite\n\nWe 
 do offer siblings discount\n\nFollow us on our Arabic School Facebook page
  (Dr. Amer Sabbagh ACC Arabic School Facebook) to check our School event
 s &amp\; activities\n\nTo learn more about the school and to register\, p
 lease email us at school@acchouston.org or call 832.351.3366 \n\n*We
  reserve the right to cancel any class level if we do not reach the minimu
 m\, in which case we will refund the full amount. The Minimum number to h
 old any class level is 5 students.
ATTACH;FMTTYPE=image/jpeg:https://www.arabamerica.com/wp-content/uploads/2
 024/02/Arabic-Back-to-Arabic-School-promotional-logo-.png
END:VEVENT
BEGIN:VTIMEZONE
TZID:America/Detroit
X-LIC-LOCATION:America/Detroit
BEGIN:DAYLIGHT
DTSTART:20230312T030000
TZOFFSETFROM:-0500
TZOFFSETTO:-0400
TZNAME:EDT
END:DAYLIGHT
BEGIN:STANDARD
DTSTART:20231105T010000
TZOFFSETFROM:-0400
TZOFFSETTO:-0500
TZNAME:EST
END:STANDARD
BEGIN:DAYLIGHT
DTSTART:20240310T030000
TZOFFSETFROM:-0500
TZOFFSETTO:-0400
TZNAME:EDT
END:DAYLIGHT
END:VTIMEZONE
END:VCALENDAR