BEGIN:VCALENDAR
VERSION:2.0
PRODID:-//wp-events-plugin.com//7.2.3.1//EN
TZID:America/Detroit
X-WR-TIMEZONE:America/Detroit
BEGIN:VEVENT
UID:31203@arabamerica.com
DTSTART;TZID=America/Detroit:20230721T130000
DTEND;TZID=America/Detroit:20230721T150000
DTSTAMP:20230605T195959Z
URL:https://www.arabamerica.com/events/arabic-coffee-1951-coffee-company-2
 /
SUMMARY:Arabic Coffee: 1951 Coffee Company
DESCRIPTION:As legend goes\, the beverage coffee was invented on the Arabia
 n Peninsula centries ago. Thought to be a gift from God because of its uni
 que ability to keep one awake during nightly prayers\, coffee gained popul
 arity and became the global drink we know today. Join us to learn more abo
 ut this wonderful coffee tradition. Coffee will be accompanied by some won
 derful Arab treats.\n\n4oz bag of select coffee is included in the class.
ATTACH;FMTTYPE=image/jpeg:https://www.arabamerica.com/wp-content/uploads/2
 023/06/https___cdn.evbuc_.com_images_518226279_261925490299_1_original.jpe
 g
CATEGORIES:#arabic,Arab cooking class,California EventsThings to do in
 Berkeley,Coffee
LOCATION:2410 Channing Way\, 2410 Channing Way \, Berkeley\, CA\,  94704\, 
 United States
GEO:37.866643;-122.259979
X-APPLE-STRUCTURED-LOCATION;VALUE=URI;X-ADDRESS=2410 Channing Way \, Berkel
 ey\, CA\,  94704\, United States;X-APPLE-RADIUS=100;X-TITLE=2410 Channing 
 Way:geo:37.866643,-122.259979
END:VEVENT
BEGIN:VTIMEZONE
TZID:America/Detroit
X-LIC-LOCATION:America/Detroit
BEGIN:DAYLIGHT
DTSTART:20230312T030000
TZOFFSETFROM:-0500
TZOFFSETTO:-0400
TZNAME:EDT
END:DAYLIGHT
END:VTIMEZONE
END:VCALENDAR