BEGIN:VCALENDAR
VERSION:2.0
PRODID:-//wp-events-plugin.com//7.2.3.1//EN
TZID:America/Detroit
X-WR-TIMEZONE:America/Detroit
BEGIN:VEVENT
UID:34269@arabamerica.com
DTSTART;TZID=America/Detroit:20250418T220000
DTEND;TZID=America/Detroit:20250419T030000
DTSTAMP:20250404T010405Z
URL:https://www.arabamerica.com/events/arabic-disco-yallah-habibi-ny/
SUMMARY:Arabic Disco Yallah Habibi NY
DESCRIPTION:BROOKLYN\, NEW YORK\nNew York\, get ready! Funoon is bringing y
 ou Yallah Habibi as it makes its way from Montreal to Brooklyn for an excl
 usive night of Arabic vibes\, music\, and celebration.\n\n \nEnjoy DJs sp
 inning the best Arabic beats\, live performances\, belly dancers\, and tab
 la.\n\n \nDon’t miss out on this one-of-a-kind cultural experience. Yal
 lah\, New York!\n\n\nAbout this event\nJoin us in experiencing Yallah Habi
 bi's mission to spread joy and unite people. From Montreal to Tunisia and 
 beyond\, Yallah Habibi has gone viral\, attracting people from all walks o
 f life who want to experience the vibrant atmosphere we bring to every eve
 nt. \n\n \nYallah Habibi is more than a party—it’s a night to remembe
 r\, a space where the Arab vibes come alive\, creating unforgettable memor
 ies. Join us and become part of a cultural celebration that brings people 
 together through music\, dance\, and connection.\n\n \nBringing Cultures 
 Together\, One Beat at a Time.
ATTACH;FMTTYPE=image/jpeg:https://www.arabamerica.com/wp-content/uploads/2
 025/04/Screenshot-2025-04-03-180545.jpg
CATEGORIES:#arabic,Arab Culture,Arab Dancing
LOCATION:100 Sutton St\, 100 sutton st\, brooklyn\, ny\, United States
GEO:40.726557;-73.94053
X-APPLE-STRUCTURED-LOCATION;VALUE=URI;X-ADDRESS=100 sutton st\, brooklyn\, 
 ny\, United States;X-APPLE-RADIUS=100;X-TITLE=100 Sutton St:geo:40.726557,
 -73.94053
END:VEVENT
BEGIN:VTIMEZONE
TZID:America/Detroit
X-LIC-LOCATION:America/Detroit
BEGIN:DAYLIGHT
DTSTART:20250309T030000
TZOFFSETFROM:-0500
TZOFFSETTO:-0400
TZNAME:EDT
END:DAYLIGHT
END:VTIMEZONE
END:VCALENDAR