BEGIN:VCALENDAR
VERSION:2.0
PRODID:-//wp-events-plugin.com//7.2.3.1//EN
TZID:America/Detroit
X-WR-TIMEZONE:America/Detroit
BEGIN:VEVENT
UID:31418@arabamerica.com
DTSTART;TZID=America/Detroit:20231218T200000
DTEND;TZID=America/Detroit:20231218T200000
DTSTAMP:20230719T111626Z
URL:https://www.arabamerica.com/events/arabic-language-day/
SUMMARY:Arabic Language Day
DESCRIPTION:NEW YORK\, NY\n\nArtists to be announced
ATTACH;FMTTYPE=image/jpeg:https://www.arabamerica.com/wp-content/uploads/2
 023/07/Screen-Shot-2023-07-19-at-2.14.59-PM.png
CATEGORIES:Arab American,Community,culture,Music/Folk/World
LOCATION:Carnegie Hall Weill Recital Hall\, 154 W 57th St\, New York \, NY\
 , 10019\, United States
GEO:40.765181;-73.979589
X-APPLE-STRUCTURED-LOCATION;VALUE=URI;X-ADDRESS=154 W 57th St\, New York \,
  NY\, 10019\, United States;X-APPLE-RADIUS=100;X-TITLE=Carnegie Hall Weill
  Recital Hall:geo:40.765181,-73.979589
END:VEVENT
BEGIN:VTIMEZONE
TZID:America/Detroit
X-LIC-LOCATION:America/Detroit
BEGIN:STANDARD
DTSTART:20231105T010000
TZOFFSETFROM:-0400
TZOFFSETTO:-0500
TZNAME:EST
END:STANDARD
END:VTIMEZONE
END:VCALENDAR