BEGIN:VCALENDAR
VERSION:2.0
PRODID:-//wp-events-plugin.com//7.2.3.1//EN
TZID:America/Detroit
X-WR-TIMEZONE:America/Detroit
BEGIN:VEVENT
UID:35669@arabamerica.com
DTSTART;TZID=America/Detroit:20260110T120000
DTEND;TZID=America/Detroit:20260110T150000
DTSTAMP:20260107T015442Z
URL:https://www.arabamerica.com/events/arabic-language-open-house/
SUMMARY:Arabic Language Open House
DESCRIPTION:\nOverview\n\n\n\n\n\nJoin us January 10 and ask us everything 
 you want to know about Arabic language classes for all ages at our Arabic 
 Language Open House!\n\n\n\n\nJoin us Saturday January 10 and ask us every
 thing you want to know about Arabic language classes for all ages at our A
 rabic Language Open House at Alif Institute. Spend a warm\, welcoming day 
 with our community – enjoy a community lunch\, Arabic Storytime for kids
 \, and time to connect with families\, teachers\, and learners. What makes
  Alif special is that we’re more than a language program – we’re a c
 ommunity. You learn Arabic from highly qualified Arab teachers while being
  surrounded by Arab Americans from all over the world\, meeting in one pla
 ce to share language\, culture\, and lived experience. Meet the teachers\,
  meet the people\, and learn more about the upcoming semester.\n\n\n\n\n\n
 \n\n\n\n\n\n\n\n\n\n\n\n\n\n
ATTACH;FMTTYPE=image/jpeg:https://www.arabamerica.com/wp-content/uploads/2
 026/01/https___cdn.evbuc_.com_images_1173761626_270430806650_1_original.jp
 eg
LOCATION:Alif Institute\, 3288 Marjan Dr.\,\, Atlanta\, 30340\, United Stat
 es
GEO:33.884774;-84.26457399999998
X-APPLE-STRUCTURED-LOCATION;VALUE=URI;X-ADDRESS=3288 Marjan Dr.\,\, Atlanta
 \, 30340\, United States;X-APPLE-RADIUS=100;X-TITLE=Alif Institute:geo:33.
 884774,-84.26457399999998
END:VEVENT
BEGIN:VTIMEZONE
TZID:America/Detroit
X-LIC-LOCATION:America/Detroit
BEGIN:STANDARD
DTSTART:20251102T010000
TZOFFSETFROM:-0400
TZOFFSETTO:-0500
TZNAME:EST
END:STANDARD
END:VTIMEZONE
END:VCALENDAR