BEGIN:VCALENDAR
VERSION:2.0
PRODID:-//wp-events-plugin.com//7.2.3.1//EN
TZID:America/Detroit
X-WR-TIMEZONE:America/Detroit
BEGIN:VEVENT
UID:31593@arabamerica.com
DTSTART;TZID=America/Detroit:20230831T101500
DTEND;TZID=America/Detroit:20230831T113000
DTSTAMP:20230821T142131Z
URL:https://www.arabamerica.com/events/arabic-lessons-w-hamad-2/
SUMMARY:Arabic Lessons w. Hamad
DESCRIPTION:Arabic Class: this is a basic Arabic class that focuses on lea
 rning the Arabic language through a cultural lens. Arabic is one of the ha
 rdest languages to learn due to its versatility and evolution. While learn
 ing the language\, it is recommended to learn a little about the culture t
 o understand where words come from and how they formulate.\n\nAbout your f
 acilitator: Hamad Alghareeb is a native Arabic language speaker. Hamad acq
 uired English as a new language through formal education\, which influence
 d their love for teaching and languages. Additionally\, they taught Englis
 h as a New Langauge in South America and the Middle East.
ATTACH;FMTTYPE=image/jpeg:https://www.arabamerica.com/wp-content/uploads/2
 023/08/https___cdn.evbuc_.com_images_538788059_67098435077_1_original-1.jp
 eg
CATEGORIES:#arabic,Arabic Language Class,Community,culture
LOCATION:Community Room @ Honest Weight Food Co-op\, 100 Watervliet Ave\, A
 lbany\, NY\, 12206\, United States
GEO:42.679193;-73.78319
X-APPLE-STRUCTURED-LOCATION;VALUE=URI;X-ADDRESS=100 Watervliet Ave\, Albany
 \, NY\, 12206\, United States;X-APPLE-RADIUS=100;X-TITLE=Community Room @ 
 Honest Weight Food Co-op:geo:42.679193,-73.78319
END:VEVENT
BEGIN:VTIMEZONE
TZID:America/Detroit
X-LIC-LOCATION:America/Detroit
BEGIN:DAYLIGHT
DTSTART:20230312T030000
TZOFFSETFROM:-0500
TZOFFSETTO:-0400
TZNAME:EDT
END:DAYLIGHT
END:VTIMEZONE
END:VCALENDAR