BEGIN:VCALENDAR
VERSION:2.0
PRODID:-//wp-events-plugin.com//7.2.3.1//EN
TZID:America/Detroit
X-WR-TIMEZONE:America/Detroit
BEGIN:VEVENT
UID:31519@arabamerica.com
DTSTART;TZID=America/Detroit:20230817T101500
DTEND;TZID=America/Detroit:20230817T113000
DTSTAMP:20230807T222531Z
URL:https://www.arabamerica.com/events/arabic-lessons-with-hamad/
SUMMARY:Arabic Lessons with Hamad
DESCRIPTION:\n\nArabic Class: this is a basic Arabic class that focuses on
  learning the Arabic language through a cultural lens. Arabic is one of th
 e hardest languages to learn due to its versatility and evolution. While l
 earning the language\, it is recommended to learn a little about the cultu
 re to understand where words come from and how they formulate.\n\nAbout yo
 ur facilitator: Hamad Alghareeb is a native Arabic language speaker. Hamad
  acquired English as a new language through formal education\, which influ
 enced their love for teaching and languages. Additionally\, they taught En
 glish as a New Langauge in South America and the Middle East.
ATTACH;FMTTYPE=image/jpeg:https://www.arabamerica.com/wp-content/uploads/2
 023/08/https___cdn.evbuc_.com_images_538788059_67098435077_1_original.jpeg
CATEGORIES:#arabic,Arab Ameircan Event,Arab
 American,Community,culture,Discussion
END:VEVENT
BEGIN:VTIMEZONE
TZID:America/Detroit
X-LIC-LOCATION:America/Detroit
BEGIN:DAYLIGHT
DTSTART:20230312T030000
TZOFFSETFROM:-0500
TZOFFSETTO:-0400
TZNAME:EDT
END:DAYLIGHT
END:VTIMEZONE
END:VCALENDAR