BEGIN:VCALENDAR
VERSION:2.0
PRODID:-//wp-events-plugin.com//7.2.3.1//EN
TZID:America/Detroit
X-WR-TIMEZONE:America/Detroit
BEGIN:VEVENT
UID:36242@arabamerica.com
DTSTART;TZID=America/Detroit:20260425T160000
DTEND;TZID=America/Detroit:20260425T160000
DTSTAMP:20260422T133539Z
URL:https://www.arabamerica.com/events/arabic-music-show-alif-institute/
SUMMARY:Arabic Music Show - Alif Institute
DESCRIPTION:\n\n\n\n\nSaturday\, April 25\, 2026\n4:00 PM at Alif Institute
 \n3288 Marjan Drive\, Atlanta GA 30340\n\n\n\n\n\n\n\n\n\n\n 	Tickets: $35
  (everyone over the age of 6 months) with sponsorship opportunities als
 o available\n 	Children must be accompanied by an adult (must also purchas
 e a ticket)\n 	Doors open at 3:15 PM\n 	Seating is open: first come\, firs
 t served.\n 	Bring your own stadium chairs or picnic blankets. Those seate
 d on blankets will be in the front\, chairs will be in the back or on the 
 sides.\n\n\n\n\n\nFor the first time in Atlanta\, Alif Institute welcomes 
 the USA Adam wa Mishmish team LIVE!\nIf you are new to this wildly popul
 ar animated children’s program\, Adam is a curious and energetic two-yea
 r-old who loves to run\, explore\, and discover the world around him. Each
  night before bed\, he hugs his favorite toy\, Mishmish. In his dreams\, M
 ishmish magically comes to life and takes Adam on imaginative adventures w
 here they begin their Arabic learning journey\, exploring the Arabic alpha
 bet\, jungle animals\, shapes\, sounds\, and much more through music\, sto
 rytelling\, and play.\nDon’t miss this interactive performance filled wi
 th songs\, storytelling\, and playful Arabic learning that children and fa
 milies can enjoy together.\nThis joyful program invites young audiences to
  sing\, move\, laugh\, and discover the beauty of the Arabic language in a
  lively and engaging way.\n\n\n\n\n\n\n\n\n\n\n\n\n\n\n\n\n\n\n\n\n\n\n\n\
 nSponsorships\nSupport a Joyful Arabic Cultural Experience for Families\n\
 n\n\n\n\n\n\n\n\nThrough music\, storytelling\, and playful learning\, thi
 s special event introduces children to the beauty of the Arabic language a
 nd culture in an engaging and memorable way. Your sponsorship helps:\n\n\
 n 	Cover program expenses.\n 	Make this program accessible to families acr
 oss our community.\n 	Support Alif’s mission to foster the understanding
 \, appreciation\, and preservation of Arab cultures.\n\nWhether you contri
 bute as an individual\, family\, or organization\, your support helps crea
 te a meaningful cultural experience for the next generation. Choose a spo
 nsorship level below and be part of bringing this joyful celebration of la
 nguage\, music\, and culture to life.\n\n\n\n\n\n\n\n\n\n\nSara Level Spon
 sor | $100\n\n\n\n\n\n\n\n\n\n 	2 complimentary event tickets\n 	Name list
 ed on event webpage\n\n\n\n\n\n\n\n\nWardi Level Sponsor | $200\n\n\n\n\n\
 n\n\n\n\n 	4 complimentary event tickets\n 	Name listed on event webpage\n
 \n\n\n\n\n\n\n\nLulu Level Sponsor | $500\n\n\n\n\n\n\n\n\n\n 	8 complimen
 tary event tickets\n 	Name or logo on event webpage\n 	Recognition in sele
 ct promotional materials\n 	Social media &amp\; mass email acknowledgment\
 n\n\n\n\n\n\n\n\n\n\n\n\nMishmish Level Sponsor | $1\,500\n\n\n\n\n\n\n\n\
 n\n 	10 complimentary event tickets\n 	Name or logo on event webpage and p
 romotional materials\n 	Social media &amp\; mass email acknowledgment\n 	S
 pecial seating area\n\n\n\n\n\n\n\n\nAdam Level Sponsor  |  $5\,000\n\n\
 n\n\n\n\n\n\n\n 	12 complimentary event tickets\n 	Prominent logo placemen
 t on event webpage and materials\n 	Featured recognition on social media\n
  	Social media &amp\; mass email acknowledgment\n 	On-stage recognition du
 ring the event\n 	Special VIP seating area\n\n\n\n\n\n\n
ATTACH;FMTTYPE=image/jpeg:https://www.arabamerica.com/wp-content/uploads/2
 026/04/Adam-Wa-MishMish-3_thin-banner-scaled-1.jpg
CATEGORIES:#arabic,Community,culture
END:VEVENT
BEGIN:VTIMEZONE
TZID:America/Detroit
X-LIC-LOCATION:America/Detroit
BEGIN:DAYLIGHT
DTSTART:20260308T030000
TZOFFSETFROM:-0500
TZOFFSETTO:-0400
TZNAME:EDT
END:DAYLIGHT
END:VTIMEZONE
END:VCALENDAR