BEGIN:VCALENDAR
VERSION:2.0
PRODID:-//wp-events-plugin.com//7.2.3.1//EN
TZID:America/Detroit
X-WR-TIMEZONE:America/Detroit
BEGIN:VEVENT
UID:35246@arabamerica.com
DTSTART;TZID=America/New_York:20251026T200000
DTEND;TZID=America/New_York:20251027T010000
DTSTAMP:20251014T153452Z
URL:https://www.arabamerica.com/events/araboo-a-habibi-halloween-edition/
SUMMARY:ARABOO! A Habibi Halloween Edition
DESCRIPTION:\n\n\nOverview\n\n\n\n\n\n\n\n\n\nGet ready for ARABOO! – A H
 abibi Halloween Edition on Sunday\, October 26th at Lotus Rooftop Lounge.\
 n\n\n\n\nCome enjoy hookah\, food\, and full bar service\, with tables and
  bottle service available for those looking to party in style! Dress up in
  your best costume for a chance to win a $500 cash prize! &#x1f4b0\;&#x1f4
 7b\;\n\n&#x1f3a7\; Music by:\n\n 	DJ Noya Raro – Afro House Vibes\n 	DJ 
 Eli – International Hits &amp\; Debka\n 	DJ M-Sal – Middle Eastern Ant
 hems\n\n&#x1f557\; Doors Open: 8PM | Party Ends: 1AM\n\n&#x1f697\; Paid Va
 let + Free Street Parking Available\n\n&#x1f51e\; 21+ Event | Physical ID 
 Required for Entry\n\nCome experience a night where Halloween meets Habibi
  energy — rooftop views\, killer beats\, and unforgettable memories awai
 t at ARABOO!\n\n\n\n\n\n\n\n\n
ATTACH;FMTTYPE=image/jpeg:https://www.arabamerica.com/wp-content/uploads/2
 025/10/https___cdn.evbuc_.com_images_1149399083_245801941016_1_original.jp
 g
CATEGORIES:Halloween,Hookah,Party
LOCATION:Lotus Rooftop Lounge\, 822 Main Ave\, Passaic\, New Jersey\, 07055
 \, United States
GEO:40.865847;-74.130224
X-APPLE-STRUCTURED-LOCATION;VALUE=URI;X-ADDRESS=822 Main Ave\, Passaic\, Ne
 w Jersey\, 07055\, United States;X-APPLE-RADIUS=100;X-TITLE=Lotus Rooftop 
 Lounge:geo:40.865847,-74.130224
END:VEVENT
BEGIN:VTIMEZONE
TZID:America/New_York
X-LIC-LOCATION:America/New_York
BEGIN:DAYLIGHT
DTSTART:20250309T030000
TZOFFSETFROM:-0500
TZOFFSETTO:-0400
TZNAME:EDT
END:DAYLIGHT
END:VTIMEZONE
END:VCALENDAR