BEGIN:VCALENDAR
VERSION:2.0
PRODID:-//wp-events-plugin.com//7.2.3.1//EN
TZID:America/Detroit
X-WR-TIMEZONE:America/Detroit
BEGIN:VEVENT
UID:31297@arabamerica.com
DTSTART;TZID=America/Detroit;VALUE=DATE:20230701
DTEND;TZID=America/Detroit;VALUE=DATE:20230702
DTSTAMP:20230702T000657Z
URL:https://www.arabamerica.com/events/arabs-of-aldie-va-eid-al-adha-celeb
 ration/
SUMMARY:Arabs of Aldie\, VA | Eid Al Adha Celebration
DESCRIPTION:Arabs of Aldie\, VA | Eid Al Adha Celebration\nWe're a group of
  Arab Muslim families in Aldie\, VA. The plan is to organize a fun celebra
 tion of Eid Al Adha in one of the local parks.\n\nWe want to create as man
 y beautiful Eid memories as possible for our school-age children\, and cel
 ebrate our local Arab Muslim community.\n\nJoin the event! We will follow-
 up with more details soon Insha'Allah.
ATTACH;FMTTYPE=image/jpeg:https://www.arabamerica.com/wp-content/uploads/2
 023/06/1eb9e6e772e2f40feeff6c68dae74e2a62f79a1f88c70ac22616fe09a59cc311-ri
 mg-w960-h587-gmir.jpeg
CATEGORIES:Arab,Arab Ameircan Event,Arab-Muslim Identity,Eid,Eid
 Al-Adha,Eid Celebration
END:VEVENT
BEGIN:VTIMEZONE
TZID:America/Detroit
X-LIC-LOCATION:America/Detroit
BEGIN:DAYLIGHT
DTSTART:20230312T030000
TZOFFSETFROM:-0500
TZOFFSETTO:-0400
TZNAME:EDT
END:DAYLIGHT
END:VTIMEZONE
END:VCALENDAR