BEGIN:VCALENDAR
VERSION:2.0
PRODID:-//wp-events-plugin.com//7.2.3.1//EN
TZID:America/Detroit
X-WR-TIMEZONE:America/Detroit
BEGIN:VEVENT
UID:35363@arabamerica.com
DTSTART;TZID=America/Detroit:20251111T180000
DTEND;TZID=America/Detroit:20251111T200000
DTSTAMP:20251104T223104Z
URL:https://www.arabamerica.com/events/art-exhibition-launch-the-things-th
 ey-cannot-kill-by-artist-zahi-khamis/
SUMMARY:Art Exhibition Launch: The Things They Cannot Kill by Artist Zahi K
 hamis
DESCRIPTION:\nGallery opening night with Palestinian artist Zahi Khamis.\n\
 n\n\n\nArt Exhibition: "The Things They Cannot Kill" by Artist Zahi Khamis
 \n\nJoin us on Tuesday\, November 11 for an opening of an art gallery with
  Palestinian artist Zahi Khamis.\n\nArtist Statement\n\nMy work is an expl
 oration of the profound emotional landscapes of the Palestinian experience
  and the universal human condition. Through vibrant oil and acrylic colors
 \, I seek to capture states of sadness\, love\, memory\, and resilience. I
 nformed by my life in exile and the enduring narrative of my Palestinian p
 eople\, my art strives to affirm the strength of the human spirit in the f
 ace of adversity.\n\nMy work is a meditation on the tension between hope a
 nd tragedy\, expressed through bright\, optimistic colors juxtaposed with 
 the poignant expressions of my subjects. This interplay aims to amplify th
 e value of life and the enduring power of hope. My paintings invite viewer
 s to pause\, reflect\, and discover their own meanings within the layers o
 f color\, texture\, and form.\n\nI believe art has the unique ability to t
 ranscend boundaries and connect us on a deeply human level. My hope is tha
 t my work resonates with viewers’ innermost emotions\, evoking a sense o
 f solidarity and inspiring a renewed appreciation for the beauty and fragi
 lity of our shared existence.\n\nAbout Artist (zahiart.com)\n\nZahi Khamis
  is a Palestinian visual artist from the village of Reineh near Nazareth\,
  now based in Baltimore\, Maryland. A self-taught painter with a backgroun
 d in Mathematics and Literary Theory\, Zahi is also a professor at Goucher
  College. His art is defined by vibrant colors and delicate\, poetic human
  figures\, reflecting his deep connection to the Palestinian experience an
 d his life in exile. Drawing from the realities and aspirations of his peo
 ple\, as well as his own exile\, Khamis explores themes of identity\, memo
 ry\, loss\, love\, yearning\, and hope.\n\nZahi’s work has been exhibite
 d widely across the United States\, including solo and juried group shows 
 at prestigious venues such as the United Nations\, the U.S. Senate\, The P
 alestine Center in Washington\, D.C.\, and the Carnegie Institute for Peac
 e. His art has also graced the covers of novels and musical albums and has
  been featured in international journals. Through his vibrant palette and 
 poignant imagery\, Zahi seeks to affirm human beauty and evoke a sense of 
 belonging and solidarity—not only with Palestinians but with all oppress
 ed peoples.\n\n\n
ATTACH;FMTTYPE=image/jpeg:https://www.arabamerica.com/wp-content/uploads/2
 025/11/https___cdn.evbuc_.com_images_1164408313_1305746759483_1_original.j
 peg
LOCATION:The Jerusalem Fund\, 2425 Virginia Ave NW\, Washington\, DC\, Unit
 ed States
GEO:38.8988618;-77.0525414
X-APPLE-STRUCTURED-LOCATION;VALUE=URI;X-ADDRESS=2425 Virginia Ave NW\, Wash
 ington\, DC\, United States;X-APPLE-RADIUS=100;X-TITLE=The Jerusalem Fund:
 geo:38.8988618,-77.0525414
END:VEVENT
BEGIN:VTIMEZONE
TZID:America/Detroit
X-LIC-LOCATION:America/Detroit
BEGIN:STANDARD
DTSTART:20251102T010000
TZOFFSETFROM:-0400
TZOFFSETTO:-0500
TZNAME:EST
END:STANDARD
END:VTIMEZONE
END:VCALENDAR