BEGIN:VCALENDAR
VERSION:2.0
PRODID:-//wp-events-plugin.com//7.2.3.1//EN
TZID:America/Detroit
X-WR-TIMEZONE:America/Detroit
BEGIN:VEVENT
UID:35379@arabamerica.com
DTSTART;TZID=America/Detroit:20251111T180000
DTEND;TZID=America/Detroit:20251111T200000
DTSTAMP:20251105T123651Z
URL:https://www.arabamerica.com/events/art-exhibition-launch-the-things-th
 ey-cannot-kill-by-palestinian-artist-zahi-khamis/
SUMMARY:Art Exhibition Launch: “The Things They Cannot Kill” by Palesti
 nian Artist Zahi Khamis
DESCRIPTION:WASHINGTON\, DC\n\n&nbsp\;
ATTACH;FMTTYPE=image/jpeg:https://www.arabamerica.com/wp-content/uploads/2
 025/11/Screen-Shot-2025-11-05-at-07.39.25.png
LOCATION:: Al-Quds Gallery at The Jerusalem Fund\, 2425 Virginia Ave NW\, W
 ashington\, DC\, 20037\, United States
GEO:38.899105;-77.052534
X-APPLE-STRUCTURED-LOCATION;VALUE=URI;X-ADDRESS=2425 Virginia Ave NW\, Wash
 ington\, DC\, 20037\, United States;X-APPLE-RADIUS=100;X-TITLE=: Al-Quds G
 allery at The Jerusalem Fund:geo:38.899105,-77.052534
END:VEVENT
BEGIN:VTIMEZONE
TZID:America/Detroit
X-LIC-LOCATION:America/Detroit
BEGIN:STANDARD
DTSTART:20251102T010000
TZOFFSETFROM:-0400
TZOFFSETTO:-0500
TZNAME:EST
END:STANDARD
END:VTIMEZONE
END:VCALENDAR