BEGIN:VCALENDAR
VERSION:2.0
PRODID:-//wp-events-plugin.com//7.2.3.1//EN
TZID:America/Detroit
X-WR-TIMEZONE:America/Detroit
BEGIN:VEVENT
UID:35271@arabamerica.com
DTSTART;TZID=America/Detroit:20251115T170000
DTEND;TZID=America/Detroit:20251115T210000
DTSTAMP:20251020T122749Z
URL:https://www.arabamerica.com/events/art-for-aid-at-night/
SUMMARY:Art for Aid: At Night!
DESCRIPTION:DETROIT\, MI\n\n\n\n\n\nMark your calendars! Join us for our ne
 xt Art for Art artist solidarity market Saturday\, November 15\, 2025 at t
 he Detroit Shipping Company from 5-9pm. This evening market will bring doz
 ens of Michigan artists and craftspeople to downtown Detroit for a night o
 f early holiday shopping and community outreach.\n\nAt Art for Aid markets
 \, vendors donate a portion of their proceeds—which are split among loca
 l\, regional\, and international causes. Donations from this event will be
  split between Palestinian mutual aid efforts\, Detroit food sovereignty w
 ork\, and Punjab\, India flood relief funds.\n\nThis evening market is fre
 e and open to the public. The Detroit Shipping Company bar and restaurants
  will be open for business throughout this event. Ample free street and pa
 id lot and street parking will be available for patrons.\n\nWe can’t wai
 t to see you [date].\n\nEvent OverviewEvent Name: Art for Aid: At Night - 
 An Artist Solidarity Market\n\nDate: Saturday\, November 15\, 2025\n\nTime
 : 5-9pm\n\nLocation: Detroit Shipping Company\, Detroit\, Michigan\n\nCost
 : Free\n\n\n\n\n\n\n\n\n\n\n\n\n\nFollow us on Instagram: @ArtForAidMI\n\n
 Learn more: ArtForAidMI.com\n\n\n\n\n\n\nThe Detroit recipient for this ar
 tist solidarity market is the Detroit Black Farmer Land Fund (DBFLF). Sinc
 e Juneteenth 2020\, the DBFLF has worked to rebuild intergenerational land
  ownership for Black farmers in Detroit.\n\n\n
ATTACH;FMTTYPE=image/jpeg:https://www.arabamerica.com/wp-content/uploads/2
 025/10/https-cdn.evbuc_.com-images-1140588643-2477839116691-1-original.202
 50930-210930.jpeg
LOCATION:Detroit Shipping Company\, 474 Peterboro Street\, Detroit\, MI\, 4
 8201\, United States
GEO:42.344096;-83.0616
X-APPLE-STRUCTURED-LOCATION;VALUE=URI;X-ADDRESS=474 Peterboro Street\, Detr
 oit\, MI\, 48201\, United States;X-APPLE-RADIUS=100;X-TITLE=Detroit Shippi
 ng Company:geo:42.344096,-83.0616
END:VEVENT
BEGIN:VTIMEZONE
TZID:America/Detroit
X-LIC-LOCATION:America/Detroit
BEGIN:STANDARD
DTSTART:20251102T010000
TZOFFSETFROM:-0400
TZOFFSETTO:-0500
TZNAME:EST
END:STANDARD
END:VTIMEZONE
END:VCALENDAR