BEGIN:VCALENDAR
VERSION:2.0
PRODID:-//wp-events-plugin.com//7.2.3.1//EN
TZID:America/Detroit
X-WR-TIMEZONE:America/Detroit
BEGIN:VEVENT
UID:35161@arabamerica.com
DTSTART;TZID=America/Detroit:20250927T000000
DTEND;TZID=America/Detroit:20250927T180000
DTSTAMP:20250924T192751Z
URL:https://www.arabamerica.com/events/art-x-aid-2/
SUMMARY:Art x Aid
DESCRIPTION:CHICAGO\, IL\n\nArt x Aid: For Palestine\n\nJoin us at Co-Prosp
 erity for a workshop and market to support families in Gaza.\n\nWorkshop -
  12:00 - 2:00 PM\n\nJoin a Chicago-based artist in a watercolor workshop w
 here you will learn to paint Palestenian landscapes and flora.\n\nAll mate
 rials are included!\n\nVendor Market - 3:00 PM - 6:00 PM\n\nThis one day 
 pop-up market is perfect for finding new gifts for the upcoming Holiday se
 ason!\n\nEach ticket includes one free drink (spiked or unspiked)\n\n&#x1f
 349\;&#x1f349\;&#x1f349\;&#x1f349\;&#x1f349\;&#x1f349\;&#x1f349\;&#x1f349\
 ;&#x1f349\;&#x1f349\;&#x1f349\;&#x1f349\;&#x1f349\;&#x1f349\;&#x1f349\;&#x
 1f349\;&#x1f349\;&#x1f349\;&#x1f349\;&#x1f349\;\n\nINTERESTED IN VENDING?
  SIGN UP HERE:\n\nhttps://givebutter.com/VEND\n\nFull table: $50\n\nHalf 
 table: $25\n\nAll of the proceeds from ticket and table sales will go to 
 Gaza Mutual Aid Solidarity and Gaza Soup Kitchen!
ATTACH;FMTTYPE=image/jpeg:https://www.arabamerica.com/wp-content/uploads/2
 025/09/Screen-Shot-2025-09-24-at-3.25.41-PM-1.png
LOCATION:3219 S Morgan St\, 3219 South Morgan Street\, Chicago \, Illinois 
 \, 60608\, United States
GEO:41.835709;-87.65083
X-APPLE-STRUCTURED-LOCATION;VALUE=URI;X-ADDRESS=3219 South Morgan Street\, 
 Chicago \, Illinois \, 60608\, United States;X-APPLE-RADIUS=100;X-TITLE=32
 19 S Morgan St:geo:41.835709,-87.65083
END:VEVENT
BEGIN:VTIMEZONE
TZID:America/Detroit
X-LIC-LOCATION:America/Detroit
BEGIN:DAYLIGHT
DTSTART:20250309T030000
TZOFFSETFROM:-0500
TZOFFSETTO:-0400
TZNAME:EDT
END:DAYLIGHT
END:VTIMEZONE
END:VCALENDAR