BEGIN:VCALENDAR
VERSION:2.0
PRODID:-//wp-events-plugin.com//7.2.3.1//EN
TZID:America/Detroit
X-WR-TIMEZONE:America/Detroit
BEGIN:VEVENT
UID:33057@arabamerica.com
DTSTART;TZID=America/Detroit:20240830T090000
DTEND;TZID=America/Detroit:20240830T120000
DTSTAMP:20240618T084914Z
URL:https://www.arabamerica.com/events/artful-mornings-daily-life-for-an-a
 ncient-egyptian-priest/
SUMMARY:Artful Mornings: Daily Life for an Ancient Egyptian Priest
DESCRIPTION:ALBANY\, NY\n\nDiscover what the daily life for priest Ankhefen
 mut was like over 3\,000 years ago in Ancient Egypt. What did he wear? Wha
 t were his jobs around the Temple of Mut? What did he eat? Join us as we e
 xplore Ankhefenmut’s world and create some of the tools he used like the
  sistrum and a reproduction mummified animal.\n\nJoin us for this one day 
 art program August 30\, 2024 9:00 AM- 12:00 PM\n\nThis art program is for 
 students aged 6-8\n\nThe cost of the program is $25 non-members and $20 me
 mbers
ATTACH;FMTTYPE=image/jpeg:https://www.arabamerica.com/wp-content/uploads/2
 024/06/Screenshot-2024-06-18-014403.png
LOCATION:Albany Institute of History & Art\, 125 Washington Ave\, Albany\, 
 NY\, 12210\, United States
GEO:42.65571;-73.76029
X-APPLE-STRUCTURED-LOCATION;VALUE=URI;X-ADDRESS=125 Washington Ave\, Albany
 \, NY\, 12210\, United States;X-APPLE-RADIUS=100;X-TITLE=Albany Institute 
 of History & Art:geo:42.65571,-73.76029
END:VEVENT
BEGIN:VTIMEZONE
TZID:America/Detroit
X-LIC-LOCATION:America/Detroit
BEGIN:DAYLIGHT
DTSTART:20240310T030000
TZOFFSETFROM:-0500
TZOFFSETTO:-0400
TZNAME:EDT
END:DAYLIGHT
END:VTIMEZONE
END:VCALENDAR