BEGIN:VCALENDAR
VERSION:2.0
PRODID:-//wp-events-plugin.com//7.2.3.1//EN
TZID:America/Detroit
X-WR-TIMEZONE:America/Detroit
BEGIN:VEVENT
UID:35381@arabamerica.com
DTSTART;TZID=America/New_York:20251113T100000
DTEND;TZID=America/New_York:20251113T113000
DTSTAMP:20251106T173826Z
URL:https://www.arabamerica.com/events/assessing-the-gaza-agreement-implem
 entation-and-implications/
SUMMARY:Assessing the Gaza Agreement: Implementation and Implications
DESCRIPTION:\nSpeakers\n\n\n\nKhaled Elgindy\nSenior fellow\, The Quincy In
 stitute for Responsible Statecraft\n\n\n\n\n\nAmira Hass\nReporter and Col
 umnist\, Ha'aretz\n\n\n\n\n\nTahani Mustafa\nVisiting fellow\, Middle East
  and North Africa programme\, European Council on Foreign Relations\n\n\n\
 n\n\nFadi Quran\nSenior Director\, Avaaz\; Founder of the Thiqa Initiative
 \n\n\n\n\n\n\nModerator\n\n\n\nYousef Munayyer\nHead of the Palestine/Isra
 el Program and Senior Fellow\nArab Center Washington DC\n\n\n\n\nAbout the
  Webinar\nAfter two years of genocidal violence against the Palestinian pe
 ople in Gaza\, a ceasefire agreement brokered by US President Donald Trump
  was announced last month. While it has led to a reduction in violence and
  the exchange of captives\, critical questions remain about Gaza’s futur
 e governance and the durability of the truce.\nArab Center Washington DC i
 s hosting a webinar to assess the Gaza ceasefire agreement\, its implement
 ation one month in\, and the outlook for the near future. Panelists will e
 xamine the role of the United States in brokering and enforcing the agreem
 ent\, alongside the involvement of regional actors and Arab states. They w
 ill also explore the implications for Israeli and Palestinian domestic pol
 itics. Key questions include: How was the agreement reached? Is it truly a
  ceasefire? Who will govern Gaza? How are the stages being implemented? An
 d what are the interests of the various parties involved?\nFeatured image 
 credit: The White House
ATTACH;FMTTYPE=image/jpeg:https://www.arabamerica.com/wp-content/uploads/2
 025/11/unnamed.jpg
END:VEVENT
BEGIN:VTIMEZONE
TZID:America/New_York
X-LIC-LOCATION:America/New_York
BEGIN:STANDARD
DTSTART:20251102T010000
TZOFFSETFROM:-0400
TZOFFSETTO:-0500
TZNAME:EST
END:STANDARD
END:VTIMEZONE
END:VCALENDAR