BEGIN:VCALENDAR
VERSION:2.0
PRODID:-//wp-events-plugin.com//7.2.3.1//EN
TZID:America/Detroit
X-WR-TIMEZONE:America/Detroit
BEGIN:VEVENT
UID:35262@arabamerica.com
DTSTART;TZID=America/Detroit:20251118T200000
DTEND;TZID=America/Detroit:20251118T213000
DTSTAMP:20251020T120349Z
URL:https://www.arabamerica.com/events/atheer-yacoub-friends/
SUMMARY:Atheer Yacoub & Friends
DESCRIPTION:CHICAGO\, IL\n\n\n\nAtheer Yacoub\, a Brooklyn-based\, internat
 ionally touring comedian\, brings hilariously relatable comedy from the fr
 ont lines of culture clash—growing up as a Palestinian in Alabama\, and 
 the joys of disappointing her traditional Muslim parents. Her mix of silly
  and dark humor tackles identity\, politics\, and religion with sharp wit 
 and unexpected twists.\n\nHer first comedy special\, Denied Entry\, is str
 eaming on YouTube and SiriusXM. Her half-hour stand-up debuted on Comedy C
 entral Arabia and aired globally across the Middle East. She’s appeared 
 on AXSTV’s Gotham Comedy Live\, SF Sketchfest\, The Boston Comedy Festiv
 al\, and more. Atheer was a staff writer for Emmy-winning network BRIC TV.
  She’s also the co-creator and co-host of the award-winning FUSE TV show
  Muslim Girls DTF: Discuss Their Faith\, recognized by SeriesFest\, Laught
 er Lab\, and The Pop Culture Collaborative.\n\nYou can currently catch her
  on stage across the country\, building a brand-new hour for her next come
 dy special.\n\n***\n\nSpecial accommodations can be made for larger partie
 s. Please email thelincolnlodge@gmail.com with information about your part
 y size and any specific requirements.\n\nREFUND POLICY: Please note that r
 efunds are only available by request up to 24 hours before the event start
  date. Requests for refunds after that will be declined but a credit note 
 will be issued for future shows (via email.) Thanks.
ATTACH;FMTTYPE=image/jpeg:https://www.arabamerica.com/wp-content/uploads/2
 025/10/https-cdn.evbuc_.com-images-1145115173-21037504862-1-original.20251
 005-191958.jpeg
LOCATION:The Lincoln Lodge\, 2040 North Milwaukee Avenue\, Chicago\, IL\, U
 nited States
GEO:41.918237;-87.690271
X-APPLE-STRUCTURED-LOCATION;VALUE=URI;X-ADDRESS=2040 North Milwaukee Avenue
 \, Chicago\, IL\, United States;X-APPLE-RADIUS=100;X-TITLE=The Lincoln Lod
 ge:geo:41.918237,-87.690271
END:VEVENT
BEGIN:VTIMEZONE
TZID:America/Detroit
X-LIC-LOCATION:America/Detroit
BEGIN:STANDARD
DTSTART:20251102T010000
TZOFFSETFROM:-0400
TZOFFSETTO:-0500
TZNAME:EST
END:STANDARD
END:VTIMEZONE
END:VCALENDAR