BEGIN:VCALENDAR
VERSION:2.0
PRODID:-//wp-events-plugin.com//7.2.3.1//EN
TZID:America/Detroit
X-WR-TIMEZONE:America/Detroit
BEGIN:VEVENT
UID:35452@arabamerica.com
DTSTART;TZID=America/Detroit:20251122T120000
DTEND;TZID=America/Detroit:20251123T200000
DTSTAMP:20251119T125415Z
URL:https://www.arabamerica.com/events/atlanta-halal-fall-festival/
SUMMARY:Atlanta Halal Fall Festival
DESCRIPTION:ATLANTA\, CA\n\n\n\nAtlanta Halal Fall Fest Nov 22–23 @ Grant
  Park! 80+ vendors\, live shows\, kids zone &amp\; FREE entry! Bring sneak
 ers\, blankets &amp\; come early!\n\n\n\n\nWelcome to the Atlanta Halal Fa
 ll Festival! Join us on November 22\, 2025 at 12:00 PM at 625 Park Ave SE 
 for a day filled with delicious halal food\, exciting entertainment\, and 
 vibrant cultural experiences. Get ready to indulge in mouthwatering dishes
 \, shop unique vendors\, and enjoy live music and performances. Don't miss
  out on this fun-filled event with family and friends! See you there!\n\nT
 imezone: Eastern Time (ET)\n\n\n
ATTACH;FMTTYPE=image/jpeg:https://www.arabamerica.com/wp-content/uploads/2
 025/11/Screenshot-2025-11-19-at-1.54.20-PM.png
LOCATION:625 Park Ave SE\, 625 Park Avenue Southeast\, Atlanta \, GA\, 3030
 8\, United States
GEO:33.737877;-84.370346
X-APPLE-STRUCTURED-LOCATION;VALUE=URI;X-ADDRESS=625 Park Avenue Southeast\,
  Atlanta \, GA\, 30308\, United States;X-APPLE-RADIUS=100;X-TITLE=625 Park
  Ave SE:geo:33.737877,-84.370346
END:VEVENT
BEGIN:VTIMEZONE
TZID:America/Detroit
X-LIC-LOCATION:America/Detroit
BEGIN:STANDARD
DTSTART:20251102T010000
TZOFFSETFROM:-0400
TZOFFSETTO:-0500
TZNAME:EST
END:STANDARD
END:VTIMEZONE
END:VCALENDAR