BEGIN:VCALENDAR
VERSION:2.0
PRODID:-//wp-events-plugin.com//7.2.3.1//EN
TZID:America/Detroit
X-WR-TIMEZONE:America/Detroit
BEGIN:VEVENT
UID:34728@arabamerica.com
DTSTART;TZID=America/Detroit:20250821T180000
DTEND;TZID=America/Detroit:20250821T190000
DTSTAMP:20250707T224601Z
URL:https://www.arabamerica.com/events/august-dei-book-club/
SUMMARY:August DEI Book Club
DESCRIPTION:INDIANAPOLIS\, IN\n\n
ATTACH;FMTTYPE=image/jpeg:https://www.arabamerica.com/wp-content/uploads/2
 025/07/la.jpg
LOCATION:The Whispering Shelf\, 414 North College Avenue\, Indianapolis\, I
 ndiana\, 46202\, United States
GEO:39.772939;-86.145647
X-APPLE-STRUCTURED-LOCATION;VALUE=URI;X-ADDRESS=414 North College Avenue\, 
 Indianapolis\, Indiana\, 46202\, United States;X-APPLE-RADIUS=100;X-TITLE=
 The Whispering Shelf:geo:39.772939,-86.145647
END:VEVENT
BEGIN:VTIMEZONE
TZID:America/Detroit
X-LIC-LOCATION:America/Detroit
BEGIN:DAYLIGHT
DTSTART:20250309T030000
TZOFFSETFROM:-0500
TZOFFSETTO:-0400
TZNAME:EDT
END:DAYLIGHT
END:VTIMEZONE
END:VCALENDAR