BEGIN:VCALENDAR
VERSION:2.0
PRODID:-//wp-events-plugin.com//7.2.3.1//EN
TZID:America/Detroit
X-WR-TIMEZONE:America/Detroit
BEGIN:VEVENT
UID:35857@arabamerica.com
DTSTART;TZID=America/Los_Angeles:20260222T170000
DTEND;TZID=America/Los_Angeles:20260222T210000
DTSTAMP:20260213T174336Z
URL:https://www.arabamerica.com/events/averroes-high-school-ramadan-commun
 ity-iftar-2/
SUMMARY:Averroes High School Ramadan Community Iftar
DESCRIPTION:\n\nWe invite you to break fast and feast with us for an inspir
 ing night of reflection\, giving\, and community. Come share in the blessi
 ngs of supporting Islamic education and shaping future leaders.\n\n\n\n\nP
 lease support us this Ramadan in our “Purifying our Wealth &amp\; our He
 arts” Campaign so we can continue to provide the best possible experienc
 e for our high school students.\nRefund Policy\nNo refunds\n
ATTACH;FMTTYPE=image/jpeg:https://www.arabamerica.com/wp-content/uploads/2
 026/02/image-7-1.webp
CATEGORIES:America,Arab American,Community,culture,Food
LOCATION:Mehran Restaurant & Catering\, 5774 Mowry School Road\, Newark\, C
 A\, 94560\, United States
GEO:37.520033;-121.992249
X-APPLE-STRUCTURED-LOCATION;VALUE=URI;X-ADDRESS=5774 Mowry School Road\, Ne
 wark\, CA\, 94560\, United States;X-APPLE-RADIUS=100;X-TITLE=Mehran Restau
 rant & Catering:geo:37.520033,-121.992249
END:VEVENT
BEGIN:VTIMEZONE
TZID:America/Los_Angeles
X-LIC-LOCATION:America/Los_Angeles
BEGIN:STANDARD
DTSTART:20251102T010000
TZOFFSETFROM:-0700
TZOFFSETTO:-0800
TZNAME:PST
END:STANDARD
END:VTIMEZONE
END:VCALENDAR