BEGIN:VCALENDAR
VERSION:2.0
PRODID:-//wp-events-plugin.com//7.2.3.1//EN
TZID:America/Detroit
X-WR-TIMEZONE:America/Detroit
BEGIN:VEVENT
UID:35753@arabamerica.com
DTSTART;TZID=America/Los_Angeles:20260220T170000
DTEND;TZID=America/Los_Angeles:20260220T203000
DTSTAMP:20260121T150555Z
URL:https://www.arabamerica.com/events/averroes-high-school-ramadan-commun
 ity-iftar/
SUMMARY:Averroes High School Ramadan Community Iftar
DESCRIPTION:Please join us for Averroes High School Ramadan Community Iftar
ATTACH;FMTTYPE=image/jpeg:https://www.arabamerica.com/wp-content/uploads/2
 026/01/https___cdn.evbuc_.com_images_1175087774_75636409445_1_original.png
CATEGORIES:California Event,California Events,Iftar,Ramadan
LOCATION:Mehran Restaurant & Catering\, 5774 Mowry School Road\, Newark\, C
 A\, 94560\, United States
GEO:37.519936;-121.992232
X-APPLE-STRUCTURED-LOCATION;VALUE=URI;X-ADDRESS=5774 Mowry School Road\, Ne
 wark\, CA\, 94560\, United States;X-APPLE-RADIUS=100;X-TITLE=Mehran Restau
 rant & Catering:geo:37.519936,-121.992232
END:VEVENT
BEGIN:VTIMEZONE
TZID:America/Los_Angeles
X-LIC-LOCATION:America/Los_Angeles
BEGIN:STANDARD
DTSTART:20251102T010000
TZOFFSETFROM:-0700
TZOFFSETTO:-0800
TZNAME:PST
END:STANDARD
END:VTIMEZONE
END:VCALENDAR