BEGIN:VCALENDAR
VERSION:2.0
PRODID:-//wp-events-plugin.com//7.2.3.1//EN
TZID:America/Detroit
X-WR-TIMEZONE:America/Detroit
BEGIN:VEVENT
UID:34919@arabamerica.com
DTSTART;TZID=America/New_York:20250816T220000
DTEND;TZID=America/New_York:20250817T020000
DTSTAMP:20250805T212413Z
URL:https://www.arabamerica.com/events/awiaaa/
SUMMARY:Awiaaa
DESCRIPTION:\n\n\nARLINGTON\, VA\n\nAges 21+\nYalla Habibi Come Join the Fu
 n\n\n\n\n\n\n\n\n\n\n&#x1f525\; AIWA NIGHT at Darn Lounge – August 16 &#
 x1f525\;Get ready for the BIGGEST Arab International Night in the DMV area
 !\n\nWe're bringing the HEAT\, the ENERGY\, and the VIBES you’ve been wa
 iting for! Featuring an all-star lineup of the region's best:\n\n&#x1f3a7\
 ; Pierre Bakhos &#x1f3a7\; DJ Sam &#x1f3a7\; DJ M-SAL &#x1f941\; Khaled Al
  Maoulaoui – the greatest drummer in the area\, bringing that extra spic
 e to every beat!\n\nExpect high-energy music\, nonstop dancing\, and a nig
 ht you won't forget.&#x1f31f\; This is THE partyeveryone will be talking a
 bout – don’t miss out!\n\n&#x1f4cd\; Darn Lounge&#x1f4c5\; Friday\, Au
 gust 16&#x23f0\; Doors open at 10 PM\n\nValet parking Available\n\nTickets
  are Non Refundable\n\nTag your crew and get ready to party AIWA-style! &#
 x1f50a\;&#x1f483\;&#x1f57a\;#AiwaNight #DarnaLounge #DMVNights #ArabPartyD
 MV #LiveBeats #KhaledAlMaoulaoui #PierreBakhos #DJSam #DJMSAL\n\nGet Ticke
 ts Here\n\n\n\n\n\n\n
ATTACH;FMTTYPE=image/jpeg:https://www.arabamerica.com/wp-content/uploads/2
 025/08/Screenshot-2025-08-05-at-5.23.26-PM.png
CATEGORIES:Arab American,Community,culture,Music/Folk/World
LOCATION:Darna Lounge\, 946 N Jackson St\, Arlington\, VA\, 22201\, United 
 States
GEO:38.8840553;-77.09956310000001
X-APPLE-STRUCTURED-LOCATION;VALUE=URI;X-ADDRESS=946 N Jackson St\, Arlingto
 n\, VA\, 22201\, United States;X-APPLE-RADIUS=100;X-TITLE=Darna Lounge:geo
 :38.8840553,-77.09956310000001
END:VEVENT
BEGIN:VTIMEZONE
TZID:America/New_York
X-LIC-LOCATION:America/New_York
BEGIN:DAYLIGHT
DTSTART:20250309T030000
TZOFFSETFROM:-0500
TZOFFSETTO:-0400
TZNAME:EDT
END:DAYLIGHT
END:VTIMEZONE
END:VCALENDAR