BEGIN:VCALENDAR
VERSION:2.0
PRODID:-//wp-events-plugin.com//7.2.3.1//EN
TZID:America/Detroit
X-WR-TIMEZONE:America/Detroit
BEGIN:VEVENT
UID:35036@arabamerica.com
DTSTART;TZID=America/Los_Angeles:20250831T150000
DTEND;TZID=America/Los_Angeles:20250831T170000
DTSTAMP:20250827T020051Z
URL:https://www.arabamerica.com/events/aza-fundraiser-house-concert/
SUMMARY:AZA fundraiser house concert
DESCRIPTION:SANTA CRUZ\, CA\n\n&nbsp\;\n\nAZA is invited to be part of one 
 of the biggest music showcasing event in the word. It will be in Morocco. 
 We need your help to get there!\n\nHelp AZA Bring Moroccan Amazigh Music t
 o the World Stage in Morocco!After more than 20 years of sharing the power
 ful rhythms and spirit of North African music with international audiences
 \, AZA has been invited to perform at an important global showcase in Moro
 cco this November— and we need your help to get there!Who We AreAZA unit
 es traditional Moroccan Amazigh music with the global influences of its di
 verse members\, creating a sound that’s both deeply rooted and universal
 ly resonant. Drawing from indigenous Moroccan musical styles like Ahwash\,
  Rwais\, and Gnawa\, our music has danceable rhythms\, intricate melodies\
 , and soulful vocals.Over the years\, AZA has been recognized as more than
  just a musical band\, but also as cultural ambassadors who shine a light 
 on Amazigh culture to be celebrated with the rest of the world.Why This Ma
 ttersAZA will be performing for producers and promotors from 80 different 
 countries at this showcase. By creating new connections\, we will have the
  opportunity to share Amazigh music with new audiences all over the world.
 Travel\, lodging\, and logistics for an international performance like thi
 s are costly\; one stipulations of the showcase is that bands cannot perfo
 rm within a certain radius and date surrounding the event\, and since we c
 annot set up another show while we are there\, we need help from our fans\
 , friends\, and community!How You Can HelpAZA has 7 dedicated members seek
 ing to raise $12\,000 to help cover:* Flights and travel expenses from the
  US to Morocco* Lodging and meals* Instrument transportYour donation—no 
 matter how big or small—brings us one step closer to our goal.Join Us on
  This JourneyMusic has the power to transcend borders\, build bridges\, an
 d preserve cultures. By supporting AZA\, you’re helping keep beauty\, jo
 y\, and cultural celebration alive and making sure it’s heard in one of 
 the most important venues it’s ever reached.We are so grateful for your 
 support\, and we promise to carry your love\, generosity\, and spirit with
  us every step of the way.With heartfelt thanks\,AZAFattah\, Genoa\, Eliza
 beth\, Terre\, Kevin\, Pete\, &amp\; Russel\n\nGet Tickets Here
ATTACH;FMTTYPE=image/jpeg:https://www.arabamerica.com/wp-content/uploads/2
 025/08/Screenshot-2025-08-26-at-9.59.55-PM.png
LOCATION:5510 Coast Rd\, 5510 Coast Rd\, Santa Cruz\, California\, 95060\, 
 United States
GEO:36.983708;-122.147716
X-APPLE-STRUCTURED-LOCATION;VALUE=URI;X-ADDRESS=5510 Coast Rd\, Santa Cruz\
 , California\, 95060\, United States;X-APPLE-RADIUS=100;X-TITLE=5510 Coast
  Rd:geo:36.983708,-122.147716
END:VEVENT
BEGIN:VTIMEZONE
TZID:America/Los_Angeles
X-LIC-LOCATION:America/Los_Angeles
BEGIN:DAYLIGHT
DTSTART:20250309T030000
TZOFFSETFROM:-0800
TZOFFSETTO:-0700
TZNAME:PDT
END:DAYLIGHT
END:VTIMEZONE
END:VCALENDAR