BEGIN:VCALENDAR
VERSION:2.0
PRODID:-//wp-events-plugin.com//7.2.3.1//EN
TZID:America/Detroit
X-WR-TIMEZONE:America/Detroit
BEGIN:VEVENT
UID:35860@arabamerica.com
DTSTART;TZID=America/Detroit:20260221T220000
DTEND;TZID=America/Detroit:20260221T235900
DTSTAMP:20260214T003645Z
URL:https://www.arabamerica.com/events/back-to-the-heart-a-ramadan-series/
SUMMARY:Back to the Heart: A Ramadan Series
DESCRIPTION:Join us in person for Back to the Heart: A Ramadan Series\, whe
 re we'll vibe\, reflect\, and connect deeply.\n\nBack to the Heart: A Rama
 dan Series\nJoin us in person for Back to the Heart\, a special Ramadan se
 ries designed to reconnect you with the true spirit of the month. Dive dee
 p into meaningful discussions\, soulful reflections\, and community vibes 
 that bring us all closer. Whether you're new or seasoned\, this series is 
 your chance to refresh your heart and soul this Ramadan. Don't miss out on
  these uplifting gatherings!
ATTACH;FMTTYPE=image/jpeg:https://www.arabamerica.com/wp-content/uploads/2
 026/02/image-4-2.webp
LOCATION:MYCP Muslim Youth Center of Philadelphia\, 11080 Knights Road\, Ph
 iladelphia\, PA\, 19154\, United States
GEO:40.082916;-74.975651
X-APPLE-STRUCTURED-LOCATION;VALUE=URI;X-ADDRESS=11080 Knights Road\, Philad
 elphia\, PA\, 19154\, United States;X-APPLE-RADIUS=100;X-TITLE=MYCP Muslim
  Youth Center of Philadelphia:geo:40.082916,-74.975651
END:VEVENT
BEGIN:VTIMEZONE
TZID:America/Detroit
X-LIC-LOCATION:America/Detroit
BEGIN:STANDARD
DTSTART:20251102T010000
TZOFFSETFROM:-0400
TZOFFSETTO:-0500
TZNAME:EST
END:STANDARD
END:VTIMEZONE
END:VCALENDAR