BEGIN:VCALENDAR
VERSION:2.0
PRODID:-//wp-events-plugin.com//7.2.3.1//EN
TZID:America/Detroit
X-WR-TIMEZONE:America/Detroit
BEGIN:VEVENT
UID:31512@arabamerica.com
DTSTART;TZID=America/Detroit:20230810T193000
DTEND;TZID=America/Detroit:20230810T210000
DTSTAMP:20230807T145142Z
URL:https://www.arabamerica.com/events/backyard-concert-in-brooklyn-height
 s/
SUMMARY:Backyard Concert in Brooklyn Heights
DESCRIPTION:"Join us and fellow music lovers next Thursday\, Aug. 10 for a 
 beautiful outdoor music experience in a backyard garden in Brooklyn Height
 s.\nThis performance will feature Hadi Eldebek on oud along with special g
 uests playing music that transcends tradition and time.\nThe event begins 
 at 7:30 pm and will wrap up by 9pm. Doors open at 6:30pm\nLight refreshmen
 ts provided. Gather your friends\, pack a picnic blanket\, and come prepar
 ed for an unforgettable night under the Brooklyn sky.\nSecure your tickets
  online — exact location will be sent to confirmed guests. We can't wait
  to see you there!\nAbout the Artist:\nHadi Eldebek is a musician and cult
 ural entrepreneur based in New York City. He has collaborated with promine
 nt figures and institutions in the Arts\, Culture\, and Education sectors\
 , including Yo-Yo Ma's Silkroad Ensemble\, Harvard Graduate School of Educ
 ation\, The Kennedy Center\, TED\, Disney World Imagineering\, and others.
  Hadi is the artistic director of The Brooklyn Nomads\, a cross cultural b
 and rooted in Arabic music traditions. He also co-founded several cultural
  startups\, including grantPA\, a tool for artists to find grants and othe
 r opportunities\, and Circle World Arts\, a platform to learn about the wo
 rld arts. His TED talk\, discussing the importance of funding the arts and
  artists\, has gone viral with over 1.25 million views."
ATTACH;FMTTYPE=image/jpeg:https://www.arabamerica.com/wp-content/uploads/2
 023/08/https___cdn.evbuc_.com_images_567627069_452885440960_1_original.jpe
 g
CATEGORIES:Arab
 American,Community,culture,Discussion,Music,Music/Folk/World,Music/pop
LOCATION:Andy's Backyard\, 45 Joralemon Street\, Brooklyn\, NY\, 11201\, Un
 ited States
GEO:40.693823;-73.998025
X-APPLE-STRUCTURED-LOCATION;VALUE=URI;X-ADDRESS=45 Joralemon Street\, Brook
 lyn\, NY\, 11201\, United States;X-APPLE-RADIUS=100;X-TITLE=Andy's Backyar
 d:geo:40.693823,-73.998025
END:VEVENT
BEGIN:VTIMEZONE
TZID:America/Detroit
X-LIC-LOCATION:America/Detroit
BEGIN:DAYLIGHT
DTSTART:20230312T030000
TZOFFSETFROM:-0500
TZOFFSETTO:-0400
TZNAME:EDT
END:DAYLIGHT
END:VTIMEZONE
END:VCALENDAR