BEGIN:VCALENDAR
VERSION:2.0
PRODID:-//wp-events-plugin.com//7.2.3.1//EN
TZID:America/Detroit
X-WR-TIMEZONE:America/Detroit
BEGIN:VEVENT
UID:35139@arabamerica.com
DTSTART;TZID=America/Detroit:20251008T180000
DTEND;TZID=America/Detroit:20251008T220000
DTSTAMP:20250923T131912Z
URL:https://www.arabamerica.com/events/bad-art-gallery-for-gaza/
SUMMARY:Bad Art Gallery for Gaza
DESCRIPTION:SAN FRANCISCO\, CA\n\n\nGallery Theme: IN THE HEART OF THE WORL
 D\nPresented by Bad Art Club &amp\; The Faight in support of Heal Palestin
 e.\n\nThe Bad Art Gallery is a group show highlighting our shared humanity
  and reinforcing our sense of belonging to the world. We’re rebelling ag
 ainst the perfectionist tendencies that keep us playing small so we can sh
 ow up fully and authentically in service of others. 100% of proceeds will 
 be donated to Heal Palestine.\n\nJoin us for this one-of-a-kind gallery sh
 ow\, featuring "bad" art made by members of our local community for the be
 nefit of our global community! We'll be showing some of the large-scale co
 llective art that's been made by Bad Art Club over the past year\, as well
  as art submitted by individuals living in the Bay Area.\n\nThere are a fe
 w ways you may participate in this event...\n\n1. Submit your bad art and 
 be a featured artist in the Bad Art Gallery! Get a free ticket to the show
 \, be a part of something uniquely beautiful. Come celebrate imperfection 
 with us. Read the guidelines here.\n\n--&gt\; Want to submit your bad art 
 to the show? Click here!!\n\n2. Come to the show as a bad art enthusiast a
 nd bid on some bad art in support of Heal Palestine. Bring your friends an
 d family. This is going to be a night to remember!\n\n3. Reach out directl
 y to collaborate\, volunteer\, and help bring even more magic to this even
 t. Email badartcontact@gmail.com.\n\nBad Art Club is the movement against 
 perfectionism. We gather weekly to make large-scale collective art using f
 ound\, donated and recycled materials. The vibe is: Unhinged expression me
 t with radical positive regard. The rules are: Be yourself and Do your wor
 st.\n\nThe Faight Collective is a community hub\, event space and music ve
 nue that's amplifying artists\, musicians\, and creatives in the Lower Hai
 ght of San Francisco. There's accessible and inclusive programming (yoga\,
  workshops\, creative lounge) most days of the week\, and amazing events o
 n weekends.\n\nHeal Palestine is a nonpolitical\, nonreligious U.S.-regist
 ered nonprofit providing urgent and long-term aid to Palestinian children 
 and families. They have evacuated 50 children from Gaza to receive life-sa
 ving surgeries\, prosthetics\, and rehabilitative care in the U.S. Three o
 f those children — Layan (14)\, Ghazal (6)\, and Anas (8) — are here i
 n San Francisco now.\n\nCurious about Bad Art Club?\n\nJoin the club and f
 ollow us on Instagram to get notified about upcoming workshops and retreat
 s!
ATTACH;FMTTYPE=image/jpeg:https://www.arabamerica.com/wp-content/uploads/2
 025/09/bbb.jpeg
LOCATION:The Faight Collective\, 473A Haight Street \, San Francisco\, CA\,
  94117 \, United States
GEO:37.771992;-122.429969
X-APPLE-STRUCTURED-LOCATION;VALUE=URI;X-ADDRESS=473A Haight Street \, San F
 rancisco\, CA\, 94117 \, United States;X-APPLE-RADIUS=100;X-TITLE=The Faig
 ht Collective:geo:37.771992,-122.429969
END:VEVENT
BEGIN:VTIMEZONE
TZID:America/Detroit
X-LIC-LOCATION:America/Detroit
BEGIN:DAYLIGHT
DTSTART:20250309T030000
TZOFFSETFROM:-0500
TZOFFSETTO:-0400
TZNAME:EDT
END:DAYLIGHT
END:VTIMEZONE
END:VCALENDAR