BEGIN:VCALENDAR
VERSION:2.0
PRODID:-//wp-events-plugin.com//7.2.3.1//EN
TZID:America/Detroit
X-WR-TIMEZONE:America/Detroit
BEGIN:VEVENT
UID:34688@arabamerica.com
DTSTART;TZID=America/Detroit:20250725T210000
DTEND;TZID=America/Detroit:20250726T020000
DTSTAMP:20250702T132958Z
URL:https://www.arabamerica.com/events/baila-habibi-%d8%ad%d8%a8%d9%8a%d8%
 a8%d9%8a-tour-los-angeles-one-night-only/
SUMMARY:Baila Habibi حبيبي TOUR LOS ANGELES *ONE NIGHT ONLY*
DESCRIPTION:LOS ANGELES\, CA\n\nBaila Habibi USA Tour LOS ANGELES\n\nLOS AN
 GELES — GET READY TO FEEL THE HEAT &#x1f525\;&#x1f525\;After Endless SOL
 D OUT nights in Chicago and Detroit\, Baila Habibi is pulling up to LA —
  and we’re coming in HOT.Over 900+ party people expected for a night of 
 Latin x Arabic madness you won’t forget.\n\nThink:&#x1f483\; Belly dance
 rs&#x1f941\; Live drummers&#x1f3b6\; DJs spinning Reggaeton\, Arabic Pop\,
  Latin Hits &amp\; Club Anthems&#x1f30d\; All in one room. All in one nigh
 t. This is cultural fusion on fire.\n\nWhether you're OG Baila Habibi fam 
 or pulling up for the first time — LA is about to experience the most el
 ectric party of the year.\n\n&#x1f4cd\; LOS ANGELES — DON’T MISS HISTO
 RY&#x1f558\; 9PM – 2AM&#x1f483\; Belly Dance Show • Drummers • Surpr
 ise Performances&#x1f3b6\; Reggaeton • Arabic • Latin Hits • Club Ba
 ngers&#x1f4f1\; Text BAILAHABIBI to (844) 921-9090&#x1f4f2\; Follow us: @b
 ailahabibi.worldwide for giveaways &amp\; exclusive drops\n\n[embed]https:
 //www.youtube.com/watch?v=P4e21uyy4Rc[/embed]\n\n
ATTACH;FMTTYPE=image/jpeg:https://www.arabamerica.com/wp-content/uploads/2
 025/07/cc.jpg
LOCATION:The Catwalk Club\, 698 Harlem Place \, Los Angeles\, California\, 
 90014\, United States
GEO:34.044242;-118.251871
X-APPLE-STRUCTURED-LOCATION;VALUE=URI;X-ADDRESS=698 Harlem Place \, Los Ang
 eles\, California\, 90014\, United States;X-APPLE-RADIUS=100;X-TITLE=The C
 atwalk Club:geo:34.044242,-118.251871
END:VEVENT
BEGIN:VTIMEZONE
TZID:America/Detroit
X-LIC-LOCATION:America/Detroit
BEGIN:DAYLIGHT
DTSTART:20250309T030000
TZOFFSETFROM:-0500
TZOFFSETTO:-0400
TZNAME:EDT
END:DAYLIGHT
END:VTIMEZONE
END:VCALENDAR