BEGIN:VCALENDAR
VERSION:2.0
PRODID:-//wp-events-plugin.com//7.2.3.1//EN
TZID:America/Detroit
X-WR-TIMEZONE:America/Detroit
BEGIN:VEVENT
UID:35168@arabamerica.com
DTSTART;TZID=America/Detroit:20251011T220000
DTEND;TZID=America/Detroit:20251012T040000
DTSTAMP:20250930T154838Z
URL:https://www.arabamerica.com/events/baila-habibi-%d8%ad%d8%a8%d9%8a%d8%
 a8%d9%8a-tour-new-york/
SUMMARY:Baila Habibi حبيبي TOUR NEW YORK
DESCRIPTION:NEW YORK\, NY\n\n\n\n&#x1f525\; BAILA HABIBI USA TOUR — NEW Y
 ORK CITY &#x1f525\;\nNEW YORK — THE WAIT IS OVER! After SOLD OUT shows a
 cross Chicago\, Detroit &amp\; LA\, BAILA HABIBI is bringing the movement 
 straight to the heart of Times Square at Palma Verde. This isn’t just a 
 party — it’s a full cultural takeover.\n\n&#x1f3a5\; Haven’t seen it
  yet? Check @bailahabibi.worldwide for the insane energy you’ll be stepp
 ing into.\n\nWHAT TO EXPECT:\n&#x1f483\; Show-Stopping Belly Dancers\n&#x1
 f941\; Live Arabic Drummers\n&#x1f483\; Live Latin Dance Perfomance\n&#x1f
 525\; Surprise Performances\n&#x1f30d\; DJs spinning Reggaeton\, Arabic Po
 p\, Latin Hits &amp\; Global Anthems — all night\n\n&#x1f483\; ONE ROOM.
  ONE NIGHT. Times Square will never be the same.\n\n&#x1f4cd\; Palma Verde
 \, Times Square — 1604 Broadway\, 4th FloorNew York City\, NY10019\n&#x1
 f558\; 11PM – 4AM\n&#x2728\; A special collaboration between Chicago’s
  CNE Presents &amp\; New York’s very own Mad East\n&#x1f39f\;&#xfe0f\; T
 ickets moving fast — grab yours NOW before they’re gone\n&#x1f4f2\; Fo
 llow @bailahabibi.worldwide for giveaways &amp\; exclusives\n\n&#x1f6a8\; 
 NYC\, don’t just hear about it — BE THERE.\n\n\n\n\n\n\n\n\n\n\n\n\n\n
 \n\n\n\n\n\n\n\n\n\n\n\n\n\n\n\n\n\n\n\n\n\n\n\n
ATTACH;FMTTYPE=image/jpeg:https://www.arabamerica.com/wp-content/uploads/2
 025/09/FE.jpeg
LOCATION:Palma Verde\, 1604 Broadway #4th Floor \, New York \, NY\, 10019\,
  United States
GEO:40.760467;-73.984251
X-APPLE-STRUCTURED-LOCATION;VALUE=URI;X-ADDRESS=1604 Broadway #4th Floor \,
  New York \, NY\, 10019\, United States;X-APPLE-RADIUS=100;X-TITLE=Palma V
 erde:geo:40.760467,-73.984251
END:VEVENT
BEGIN:VTIMEZONE
TZID:America/Detroit
X-LIC-LOCATION:America/Detroit
BEGIN:DAYLIGHT
DTSTART:20250309T030000
TZOFFSETFROM:-0500
TZOFFSETTO:-0400
TZNAME:EDT
END:DAYLIGHT
END:VTIMEZONE
END:VCALENDAR