BEGIN:VCALENDAR
VERSION:2.0
PRODID:-//wp-events-plugin.com//7.2.3.1//EN
TZID:America/Detroit
X-WR-TIMEZONE:America/Detroit
BEGIN:VEVENT
UID:34692@arabamerica.com
DTSTART;TZID=America/Detroit:20250719T190000
DTEND;TZID=America/Detroit:20250720T020000
DTSTAMP:20250702T135730Z
URL:https://www.arabamerica.com/events/baila-habibi-1-year-anniversary-sum
 mer-rooftop-party/
SUMMARY:Baila Habibi 1 Year Anniversary Summer Rooftop Party
DESCRIPTION:CHICAGO\, IL\n\n\n\n\n\n\n\n\n\n&#x1f389\; Baila Habibi: 1-Year
  Anniversary Rooftop Celebration! &#x1f389\;We’re turning ONE — and yo
 u’re invited to the ultimate summer rooftop party that fuses the fiery r
 hythms of Latin America with the hypnotic vibes of the Arab world! &#x1f30
 e\;&#x1f525\;\n\nJoin us as we celebrate one unforgettable year of music\,
  movement\, and multicultural magic. From reggaeton to dabke\, salsa to sh
 arki\, this night is all about unity through music and dance — the Baila
  Habibi way.\n\n&#x1f31f\; Special Guest: Dytto &#x1f31f\;\n\nWith over 4 
 million followers and a style that blends futuristic moves with global fla
 ir\, Dytto has choreographed for icons like Shakira and J Balvin—and now
  she’s bringing her viral energy to Baila Habibi! Don’t miss this one-
 of-a-kind performance where street meets style\, and cultures collide on t
 he dance floor.\n\n&nbsp\;\n\n&#x2728\; What to Expect:&#x1f306\; Rooftop 
 Party | 7PM–12AM&#x1f303\; Indoor Party| 9PM–2AM&#x1f3b6\; 2 Floors of
  music DJs spinning Reggaeton\, Arabic hits\, Latin bangers &amp\; Club vi
 bes all night&#x1f483\; Belly Dance Show &amp\; More Dance Performances&#x
 1f4a8\; Food &amp\; Rooftop Hookahs Available&#x1f697\; Street Parking on 
 Elston or Valet Available\n\nLet’s raise a glass\, light up the dance fl
 oor\, and celebrate the beats that brought us together. This isn’t just 
 a party — it’s a cultural movement\, and it’s just getting started.F
 ollow us on IG for updates &amp\; giveaways: @bailahabibi.worldwide\n\n\n\
 n\n\n\n\n\n\n\n\n\n\n\n\n\n\n\n\n\n\n\n\n\n\n\n\n\n\n\n\n\n\n\n\n\n\n\n\n\
 n\n\n\n\n\n\n\n\n\n\n
ATTACH;FMTTYPE=image/jpeg:https://www.arabamerica.com/wp-content/uploads/2
 025/07/vvv.jpg
LOCATION:Azul\, 1177 North Elston Avenue\, Chicago\, Illinois  \, 60642\, U
 nited States
GEO:41.903165;-87.657613
X-APPLE-STRUCTURED-LOCATION;VALUE=URI;X-ADDRESS=1177 North Elston Avenue\, 
 Chicago\, Illinois  \, 60642\, United States;X-APPLE-RADIUS=100;X-TITLE=Az
 ul:geo:41.903165,-87.657613
END:VEVENT
BEGIN:VTIMEZONE
TZID:America/Detroit
X-LIC-LOCATION:America/Detroit
BEGIN:DAYLIGHT
DTSTART:20250309T030000
TZOFFSETFROM:-0500
TZOFFSETTO:-0400
TZNAME:EDT
END:DAYLIGHT
END:VTIMEZONE
END:VCALENDAR