BEGIN:VCALENDAR
VERSION:2.0
PRODID:-//wp-events-plugin.com//7.2.3.1//EN
TZID:America/Detroit
X-WR-TIMEZONE:America/Detroit
BEGIN:VEVENT
UID:35383@arabamerica.com
DTSTART;TZID=America/Detroit:20251121T220000
DTEND;TZID=America/Detroit:20251122T030000
DTSTAMP:20251111T140822Z
URL:https://www.arabamerica.com/events/baila-habibi-in-river-north-downtow
 n-chicago-2/
SUMMARY:Baila Habibi in River North Downtown Chicago
DESCRIPTION:CHICAGO\, IL\n\n\n\n\n\n\n\n\n\n\nBaila Habibi takes over Fame 
 Nightclub! A wild fusion of rhythms\, cultures &amp\; stunning new perform
 ances light up River North all night!\n\n\n\n\n&#x2728\; Baila Habibi: The
  Next Chapter at Fame Nightclub &#x1f525\;\n\nIt started as a dream — to
  bring two worlds together through rhythm\, culture\, and dance. What bega
 n as a celebration has now grown into a movement. This time\, we’re taki
 ng it to the next level.\n\nJoin us at Fame Nightclub in River North for a
  reimagined Baila Habibi experience like never before. We’ve completely 
 switched things up—new stage design\, new energy\, and brand-new perform
 ances debuting for the first time in Chicago.\n\nStep into a world where L
 atin passion meets Arabic soul — where drums\, strings\, and bass lines 
 collide under one roof.\nLose yourself in the beat of Reggaeton\, Arabic\,
  Latin\, and Club anthems mixed by top DJs and surprise guests who know ho
 w to keep the crowd alive till sunrise.\n\n&#x1f483\; Electrifying belly d
 ance &amp\; live performaces that will leave you in awe\n&#x1f3a7\; Nonsto
 p music from 10PM–3AM\n&#x1f697\; Use SpotHero or ride share (Uber/Lyft 
 recommended)\n\nThis isn’t just another party — it’s a new era of Ba
 ila Habibi.\nA night where cultures unite\, energy flows\, and every song 
 tells our shared story.\n\n&#x1f4f2\; More info: Text BAILAHABIBI to (844)
  921-9090\nFollow @bailahabibi.worldwide for exclusive giveaways &amp\; up
 dates.\n\n\n\n\n\n\n\n\n\n\n\n\n\n\n\n\n\n\n\n\n\n\n\n\n\n\n\n\n\n\n
ATTACH;FMTTYPE=image/jpeg:https://www.arabamerica.com/wp-content/uploads/2
 025/11/Screenshot-2025-11-11-at-3.05.38-PM.png
LOCATION:Fame Nightclub\, 157 West Ontario Street\, Chicago\, IL\, 60654\, 
 United States
GEO:41.892902;-87.633403
X-APPLE-STRUCTURED-LOCATION;VALUE=URI;X-ADDRESS=157 West Ontario Street\, C
 hicago\, IL\, 60654\, United States;X-APPLE-RADIUS=100;X-TITLE=Fame Nightc
 lub:geo:41.892902,-87.633403
END:VEVENT
BEGIN:VTIMEZONE
TZID:America/Detroit
X-LIC-LOCATION:America/Detroit
BEGIN:STANDARD
DTSTART:20251102T010000
TZOFFSETFROM:-0400
TZOFFSETTO:-0500
TZNAME:EST
END:STANDARD
END:VTIMEZONE
END:VCALENDAR