BEGIN:VCALENDAR
VERSION:2.0
PRODID:-//wp-events-plugin.com//7.2.3.1//EN
TZID:America/Detroit
X-WR-TIMEZONE:America/Detroit
BEGIN:VEVENT
UID:36212@arabamerica.com
DTSTART;TZID=America/Detroit:20260711T150000
DTEND;TZID=America/Detroit:20260711T150000
DTSTAMP:20260421T141224Z
URL:https://www.arabamerica.com/events/baila-habibi-on-oak-street-beach/
SUMMARY:Baila Habibi on Oak Street Beach
DESCRIPTION:\n\n\nCHICAGO\, IL\n\nBaila Habibi returns to the beach—sand\
 , skyline\, DJs\, dancers &amp\; nonstop global vibes. Chicago’s hottest
  summer party is back.\n\n\n\n\n\n\nAfter taking over rooftops\, selling o
 ut cities\, and shutting down dance floors… Baila Habibi is BACK — th
 is time\, on the beach.\n\nWelcome to the return of Baila Habibi: On The 
 Beach — where Chicago’s skyline meets sand\, waves\, and nonstop glob
 al energy.\n\nThis isn’t your average beach party. This is a full-scale 
 experience where Latin heat and Middle Eastern rhythms collide right on Oa
 k Street Beach. From the moment you step onto the sand\, you’re stepping
  into a different world — one built on music\, movement\, and pure summe
 r vibes.\n\nWHAT TO EXPECT:\n&#x1f3a7\; Top DJs spinning reggaeton\, Arabi
 c hits\, Latin house\, dembow &amp\; global anthems\n&#x1f483\; Live dance
 rs bringing the Baila Habibi energy to life\n&#x1f941\; Live percussion &a
 mp\; surprise performances throughout the day\n&#x1f30a\; Dance floor in t
 he sand with the lake at your feet\n&#x1f306\; Unreal skyline views behind
  you all day long\n&#x1f379\; Beachside bars serving up summer cocktails\n
 &#x1f525\; A high-energy crowd that came to move\n\nWhether you’ve been 
 rocking with Baila Habibi or this is your first time experiencing it — t
 his beach edition hits different.\n\nSun. Music. Culture. Energy.\n\nThis 
 is where Chicago comes alive.\n\n&#x1f39f\;&#xfe0f\; Tickets will go fast 
 — don’t wait.\n\nhttps://www.eventbrite.com/e/baila-habibi-on-oak-stre
 et-beach-tickets-1986345298258?aff=ebdssbdestsearch\n\n&nbsp\;\n\n\n
ATTACH;FMTTYPE=image/jpeg:https://www.arabamerica.com/wp-content/uploads/2
 026/04/Screenshot-2026-04-21-at-10.07.22-AM.png
LOCATION:Whispers at Oak Street Beach\, 1001 North Lake Shore Drive\, Chica
 go\, Illinois\, 60611\, United States
GEO:41.901743;-87.621829
X-APPLE-STRUCTURED-LOCATION;VALUE=URI;X-ADDRESS=1001 North Lake Shore Drive
 \, Chicago\, Illinois\, 60611\, United States;X-APPLE-RADIUS=100;X-TITLE=W
 hispers at Oak Street Beach:geo:41.901743,-87.621829
END:VEVENT
BEGIN:VTIMEZONE
TZID:America/Detroit
X-LIC-LOCATION:America/Detroit
BEGIN:DAYLIGHT
DTSTART:20260308T030000
TZOFFSETFROM:-0500
TZOFFSETTO:-0400
TZNAME:EDT
END:DAYLIGHT
END:VTIMEZONE
END:VCALENDAR