BEGIN:VCALENDAR
VERSION:2.0
PRODID:-//wp-events-plugin.com//7.2.3.1//EN
TZID:America/Detroit
X-WR-TIMEZONE:America/Detroit
BEGIN:VEVENT
UID:35050@arabamerica.com
DTSTART;TZID=America/Detroit:20250920T050000
DTEND;TZID=America/Detroit:20250920T103000
DTSTAMP:20250901T195655Z
URL:https://www.arabamerica.com/events/ball-for-gaza-myc-x-salam-sports-ba
 ll-tournament/
SUMMARY:Ball For Gaza (MYC x SALAM SPORTS BALL TOURNAMENT)
DESCRIPTION:BROOKLYN\, NY\n\n\n\nBALL FOR GAZA (MYC x SALAM SPORTS BALL TOU
 RNAMENT)\n\nCome join us for a day of fun and friendly competition at the 
 Kings Bay Youth Organization! EACH TICKET IS FOR A TEAM OF 3 . You are all
 owed one sub This event is all about bringing the community together throu
 gh sports and supporting a great cause. Whether you're a seasoned athlete 
 or just looking to have a good time\, this tournament is for you. Lace up 
 your sneakers\, grab your friends\, and get ready to show off your skills 
 on the court. Let's make a positive impact while having a ball!
ATTACH;FMTTYPE=image/jpeg:https://www.arabamerica.com/wp-content/uploads/2
 025/09/BALL.jpeg
LOCATION:Kings Bay Youth Organization\, 2670 Coyle Street \, Brooklyn \, NY
 \, 11235\, United States
GEO:40.588272;-73.935201
X-APPLE-STRUCTURED-LOCATION;VALUE=URI;X-ADDRESS=2670 Coyle Street \, Brookl
 yn \, NY\, 11235\, United States;X-APPLE-RADIUS=100;X-TITLE=Kings Bay Yout
 h Organization:geo:40.588272,-73.935201
END:VEVENT
BEGIN:VTIMEZONE
TZID:America/Detroit
X-LIC-LOCATION:America/Detroit
BEGIN:DAYLIGHT
DTSTART:20250309T030000
TZOFFSETFROM:-0500
TZOFFSETTO:-0400
TZNAME:EDT
END:DAYLIGHT
END:VTIMEZONE
END:VCALENDAR