BEGIN:VCALENDAR
VERSION:2.0
PRODID:-//wp-events-plugin.com//7.2.3.1//EN
TZID:America/Detroit
X-WR-TIMEZONE:America/Detroit
BEGIN:VEVENT
UID:33266@arabamerica.com
DTSTART;TZID=America/Detroit:20240724T120000
DTEND;TZID=America/Detroit:20240724T123000
DTSTAMP:20240724T221834Z
URL:https://www.arabamerica.com/events/bangor-stand-out/
SUMMARY:Bangor Stand-Out
DESCRIPTION:BANGOR\, ME\nA weekly stand-out by the people of Bangor.\nNote:
  The Bangor stand-out is 12-12:30pm. It appears on our site as 12-1pm due 
 to a quirk of Squarespace’s calendar system.\n\n\n 	Wednesday\, July 24\
 , 2024\n 	12:00 PM  12:30 PM\n\n\n 	Harlow St &amp\; Central St73 Harlow
  StreetBangor\, ME\, 04401United States (map)\n\n\n 	Google Calendar  I
 CS\n
ATTACH;FMTTYPE=image/jpeg:https://www.arabamerica.com/wp-content/uploads/2
 024/07/Screenshot-2024-07-24-151543.png
LOCATION:Harlow St & Central St\, 73 Harlow Street\, Bangor\, ME\, 04401\, 
 United States
GEO:44.803738;-68.770302
X-APPLE-STRUCTURED-LOCATION;VALUE=URI;X-ADDRESS=73 Harlow Street\, Bangor\,
  ME\, 04401\, United States;X-APPLE-RADIUS=100;X-TITLE=Harlow St & Central
  St:geo:44.803738,-68.770302
END:VEVENT
BEGIN:VTIMEZONE
TZID:America/Detroit
X-LIC-LOCATION:America/Detroit
BEGIN:DAYLIGHT
DTSTART:20240310T030000
TZOFFSETFROM:-0500
TZOFFSETTO:-0400
TZNAME:EDT
END:DAYLIGHT
END:VTIMEZONE
END:VCALENDAR