BEGIN:VCALENDAR
VERSION:2.0
PRODID:-//wp-events-plugin.com//7.2.3.1//EN
TZID:America/Detroit
X-WR-TIMEZONE:America/Detroit
BEGIN:VEVENT
UID:33880@arabamerica.com
DTSTART;TZID=America/Detroit:20250111T103000
DTEND;TZID=America/Detroit:20250111T120000
DTSTAMP:20241230T003629Z
URL:https://www.arabamerica.com/events/banquets-of-marrakesh/
SUMMARY:Banquets of Marrakesh
DESCRIPTION:Morocco is the only Arab country that the Turks never conquered
 \,\n\nand it has preserved and elaborated unique culinary traditions with\
 n\nroots in medieval Moorish Spain and North Africa. Even today\, its\n\nk
 ing can organize huge food festivals\, which give us a sense of what\n\nit
  was like to dine there four centuries ago when it was a major\n\nplayer i
 n Mediterranean politics. Compare this with Charles Perry?s\n\nDecember ta
 lk\, "Banquets of Istanbul."\n\nCharles Perry majored in Middle East Studi
 es at Princeton University\n\nand the University of California\, Berkeley.
  After graduation\, he\n\npursued a writing career\, serving as an editor 
 and staff writer at\n\nRolling Stone from 1968 to 1976 and a staff writer 
 at the Los\n\nAngeles Times Food Section from 1990 to 2008. He began colle
 cting\n\nmedieval Arab cookery manuscripts in 1980 and has published\n\nwi
 dely on Middle Eastern food history.
ATTACH;FMTTYPE=image/jpeg:https://www.arabamerica.com/wp-content/uploads/2
 024/12/https-cdn.evbuc_.com-images-923981413-724925603793-1-original.20241
 227-232522.jpeg
LOCATION:Central Library - TAPER AUDITORIUM\, 630 W 5th S\, Los Angeles\, C
 A\, 90071\, United States
GEO:34.050332;-118.254946
X-APPLE-STRUCTURED-LOCATION;VALUE=URI;X-ADDRESS=630 W 5th S\, Los Angeles\,
  CA\, 90071\, United States;X-APPLE-RADIUS=100;X-TITLE=Central Library - T
 APER AUDITORIUM:geo:34.050332,-118.254946
END:VEVENT
BEGIN:VTIMEZONE
TZID:America/Detroit
X-LIC-LOCATION:America/Detroit
BEGIN:STANDARD
DTSTART:20241103T010000
TZOFFSETFROM:-0400
TZOFFSETTO:-0500
TZNAME:EST
END:STANDARD
END:VTIMEZONE
END:VCALENDAR