BEGIN:VCALENDAR
VERSION:2.0
PRODID:-//wp-events-plugin.com//7.2.3.1//EN
TZID:America/Detroit
X-WR-TIMEZONE:America/Detroit
BEGIN:VEVENT
UID:35751@arabamerica.com
DTSTART:20260613T023000Z
DTEND:20260613T060000Z
DTSTAMP:20260121T074815Z
URL:https://www.arabamerica.com/events/barbecue-potluck-dinner-for-christi
 ans-and-muslims-3/
SUMMARY:Barbecue potluck dinner for Christians and Muslims
DESCRIPTION:LYNNWOOD\, WA\nOverview\n\n\n\n\nA dinner for Christians and Mu
 slims to make friends and have meaningful conversation about life's bigges
 t questions.\n\n\n\n\n\n\nChristianity and Islam are the world's biggest i
 deas and it is important that we have meaningful conversations and real fr
 iendships with one another.\n\nJoin us for a night of tasty food and meani
 ngful conversation hosted by Mill Creek Foursquare Church and The Al-Ma'id
 ah Initiative. Please bring a halal dish to share! The only programming fo
 r the evening will be dinner and conversation at tables.\n\nThe Al-Ma'idah
  Initiative is a Christian nonprofit organization that facilitates friends
 hip and conversation between Christians and Muslims. Learn more at al-maid
 ah.org\n\n\n\n
ATTACH;FMTTYPE=image/jpeg:https://www.arabamerica.com/wp-content/uploads/2
 019/11/dinner-with-local-family.jpg
CATEGORIES:Arab,Community,culture,Food
LOCATION:Mill Creek Foursquare Church\, 1415 164th Street Southwest\, Lynnw
 ood \, WA\, 98087\, United States
GEO:47.849953;-122.252691
X-APPLE-STRUCTURED-LOCATION;VALUE=URI;X-ADDRESS=1415 164th Street Southwest
 \, Lynnwood \, WA\, 98087\, United States;X-APPLE-RADIUS=100;X-TITLE=Mill 
 Creek Foursquare Church:geo:47.849953,-122.252691
END:VEVENT
END:VCALENDAR