BEGIN:VCALENDAR
VERSION:2.0
PRODID:-//wp-events-plugin.com//7.2.3.1//EN
TZID:America/Detroit
X-WR-TIMEZONE:America/Detroit
BEGIN:VEVENT
UID:31477@arabamerica.com
DTSTART;TZID=America/Detroit:20230913T183000
DTEND;TZID=America/Detroit:20230913T193000
DTSTAMP:20230801T172150Z
URL:https://www.arabamerica.com/events/basic-arabic/
SUMMARY:Basic Arabic
DESCRIPTION:NEW YORK\n\nThis program is in person at the Stavros Niarchos F
 oundation Library\, 3rd Floor\, Room 303.\n\nJoin us for an in person sess
 ion in learning the basics of Arabic .\n\nParticipants will learn how to r
 ead and write the Arabic alphabet\, learn basic vocabulary and phrases\, a
 nd practice saying basic sentences. No prior language experience is necess
 ary. Handouts and materials will be provided.\n\nAll programs subject to c
 hange or cancellation.\n\nAudience: Adults\nAssistive Listening and ASL\nA
 ssistive listening devices available\nASL interpretation and real-time (CA
 RT) captioning available upon request. Please submit your request at least
  two weeks in advance by emailing accessibility@nypl.org.
ATTACH;FMTTYPE=image/jpeg:https://www.arabamerica.com/wp-content/uploads/2
 023/08/Screenshot-2023-08-01-at-8.17.40-PM.png
CATEGORIES:#arabic,Community,Discussion
LOCATION:Stavros Niarchos Foundation Library (SNFL)\, 455 Fifth Avenue\, Ne
 w York\, NY\, 10016\, United States
GEO:40.751886;-73.981706
X-APPLE-STRUCTURED-LOCATION;VALUE=URI;X-ADDRESS=455 Fifth Avenue\, New York
 \, NY\, 10016\, United States;X-APPLE-RADIUS=100;X-TITLE=Stavros Niarchos 
 Foundation Library (SNFL):geo:40.751886,-73.981706
END:VEVENT
BEGIN:VTIMEZONE
TZID:America/Detroit
X-LIC-LOCATION:America/Detroit
BEGIN:DAYLIGHT
DTSTART:20230312T030000
TZOFFSETFROM:-0500
TZOFFSETTO:-0400
TZNAME:EDT
END:DAYLIGHT
END:VTIMEZONE
END:VCALENDAR