BEGIN:VCALENDAR
VERSION:2.0
PRODID:-//wp-events-plugin.com//7.2.3.1//EN
TZID:America/Detroit
X-WR-TIMEZONE:America/Detroit
BEGIN:VEVENT
UID:31513@arabamerica.com
DTSTART;TZID=America/Detroit:20230912T190000
DTEND;TZID=America/Detroit:20230912T203000
DTSTAMP:20230807T173751Z
URL:https://www.arabamerica.com/events/bassem-eid-palestinian-human-rights
 -peace-activist/
SUMMARY:Bassem Eid - Palestinian Human Rights/Peace Activist
DESCRIPTION:\n\n\nBassem Eid - Palestinian Human Rights/Peace Activist\n\nJ
 oin us for an inspiring evening with Bassem Eid\, a renowned Palestinian
  Human Rights/Peace Activist. Discover his incredible journey as he advoca
 tes for justice\, peace\, and coexistence in the region.\n\n&nbsp\;\n\nBe 
 part of this unique opportunity to hear from an influential figure who has
  dedicated his life to promoting dialogue and understanding. Hear his view
 s on UNRWA\, BDS\, Gaza\, and ideas for resolution.\n\nDon't miss this cha
 nce to engage with Bassem Eid. Reserve your spot now!\n\n\n\n\n\n
CATEGORIES:Israel-Palestine Conflict,North Carolina Events,Palestinian
 Identity
LOCATION:Cate Student Center\,  3800 Hillsborough Street \, Raleigh\, NC\, 
 27607\, United States
GEO:35.799177;-78.688231
X-APPLE-STRUCTURED-LOCATION;VALUE=URI;X-ADDRESS= 3800 Hillsborough Street \
 , Raleigh\, NC\, 27607\, United States;X-APPLE-RADIUS=100;X-TITLE=Cate Stu
 dent Center:geo:35.799177,-78.688231
END:VEVENT
BEGIN:VTIMEZONE
TZID:America/Detroit
X-LIC-LOCATION:America/Detroit
BEGIN:DAYLIGHT
DTSTART:20230312T030000
TZOFFSETFROM:-0500
TZOFFSETTO:-0400
TZNAME:EDT
END:DAYLIGHT
END:VTIMEZONE
END:VCALENDAR