BEGIN:VCALENDAR
VERSION:2.0
PRODID:-//wp-events-plugin.com//7.2.3.1//EN
TZID:America/Detroit
X-WR-TIMEZONE:America/Detroit
BEGIN:VEVENT
UID:35095@arabamerica.com
DTSTART;TZID=America/Detroit:20250927T180000
DTEND;TZID=America/Detroit:20250927T220000
DTSTAMP:20250909T231050Z
URL:https://www.arabamerica.com/events/bazaar-family-style-dinner-at-cafe-
 olivia/
SUMMARY:Bazaar Family Style Dinner at Cafe Olivia
DESCRIPTION:DALLAS\, TX\n\n\nAn event featuring 7+ traditional large format
  Syrian dishes shared family style\, outdoors in celebration of Cafe Olivi
 as grand opening.\n\n\n\n\n\n\n\n\n\n\n\n\n\n\nThis event is a collaborati
 on with Cafe Olivia\, a local business owned &amp\; operated by Adrian Ver
 din (Owner of OnBrandHospitality)\n\nMenu will include braised lamb\, whol
 e fish\, fresh herbs &amp\; vegetables\, aromatic grains\, bold spices and
  a variety of nuts.\n\nDress chic casual &amp\; comfortable\, it's an outd
 oor event after all.\n\nA list of what each dish contains allergy wise wil
 l be provided day of\, most dishes will contain gluten\, seafood &amp\; nu
 ts.\n\nNot recommended for vegetarians/vegans.6\n\nGet Tickets Here
ATTACH;FMTTYPE=image/jpeg:https://www.arabamerica.com/wp-content/uploads/2
 025/09/Screenshot-2025-09-09-at-7.05.12-PM.png
LOCATION:14551 Dallas Pkwy\, 14551 Dallas Pkwy\, Dallas \, TX\, 75254\, Uni
 ted States
GEO:32.943214;-96.823157
X-APPLE-STRUCTURED-LOCATION;VALUE=URI;X-ADDRESS=14551 Dallas Pkwy\, Dallas 
 \, TX\, 75254\, United States;X-APPLE-RADIUS=100;X-TITLE=14551 Dallas Pkwy
 :geo:32.943214,-96.823157
END:VEVENT
BEGIN:VTIMEZONE
TZID:America/Detroit
X-LIC-LOCATION:America/Detroit
BEGIN:DAYLIGHT
DTSTART:20250309T030000
TZOFFSETFROM:-0500
TZOFFSETTO:-0400
TZNAME:EDT
END:DAYLIGHT
END:VTIMEZONE
END:VCALENDAR