BEGIN:VCALENDAR
VERSION:2.0
PRODID:-//wp-events-plugin.com//7.2.3.1//EN
TZID:America/Detroit
X-WR-TIMEZONE:America/Detroit
BEGIN:VEVENT
UID:30741@arabamerica.com
DTSTART;TZID=America/Detroit:20230425T113000
DTEND;TZID=America/Detroit:20230425T113000
DTSTAMP:20230323T032531Z
URL:https://www.arabamerica.com/events/beginning-tunisian-coaster-with-yar
 n-over-floyd/
SUMMARY:Beginning Tunisian Coaster with Yarn Over Floyd
DESCRIPTION:ASHLAND\, VA\n\nCreate a simple swatch using two Tunisian Croch
 et stitches to be used as a coaster. You will learn how to make your first
  row\, Forward Pass\, Return Pass\, Tunisian Simple Stitch\, &amp\; Tunisi
 an Knit Stitch.  Tunisian Crochet is an exciting way to expand your stitc
 hing knowledge to create knit like garments and accessories.\nLength: 2 ho
 urs\nLearn:\n\n\n 	\nTwo (2) Tunisian Crochet Stitches\n\n 	\nForward &amp
 \; Return Pass\n\n 	\nFinishing off/Binding off work\n\n\nSupplies:\n\n\n 
 	\n20g DK or Worsted Weight Cotton Yarn (bring your own or YarnOverFloyd y
 arn kits will be available for purchase at class)\n\n 	\nUS K/6.5mm 9” T
 unisian Crochet Hook (straight steel crochet hook will work without ergono
 mic handle)\n\n 	\nCrochet Notions: (1) stitch marker\, scissors\, tapestr
 y needle (optional)\n\n\nPre-requisites:\n\n\n 	\nBeginner crochet or knit
 ting knowledge\n\n\n\n&nbsp\;\n\n&nbsp\;\n\n\n\nSkill Level:\nBeginner\n\n
 \nSkill Details:\nLearn: Two (2) Tunisian Crochet Stitches Forward &amp\; 
 Return Pass Finishing off/Binding off work\n\n\nRequirements:\nSupplies: 2
 0g DK or Worsted Weight Cotton Yarn (YarnOverFloyd yarn kit will be availa
 ble for purchase at class) US K/6.5mm 9" Tunisian Crochet Hook (straight s
 teel crochet hook will work without ergonomic handle) Crochet Notions: (1)
  stitch marker\, scissors\, tapestry needle (optional) Pre-requisites: Beg
 inner crochet or knitting knowledge\n\n\nInstructor:\nSiobhan Boothe\n\n\n
 Instructor Bio:\nSiobhan Boothe/Yarn Over Floyd Naturally dyed fibers and 
 simple crocheted creations from the farm Yarn Over Floyd is a small batch\
 , independent yarn dyer from the Blue Ridge Mountains of Virginia. Here in
  the Appalachian Mountains I try and collect\, use and save our local flor
 a\, scraps from the garden and weeds to help feed our love of fiber. There
  is never enough yarn and each one of our skeins is dyed specifically with
  the intent of you being able to take a little piece of our paradise home 
 with you.\n\n\n
ATTACH;FMTTYPE=image/jpeg:https://www.arabamerica.com/wp-content/uploads/2
 023/03/42e3d2ddd3ced53a3fe6593652e6e0ec1396796c4d5846dfb8dfe97c4cbaa013-ri
 mg-w960-h960-gmir.jpg
CATEGORIES:Community,culture,Music/Folk/World
LOCATION:Center Of The Yarniverse\, 100 N Railroad Ave\, Ashland \, VA\, 23
 005\, United States
GEO:37.759013;-77.481456
X-APPLE-STRUCTURED-LOCATION;VALUE=URI;X-ADDRESS=100 N Railroad Ave\, Ashlan
 d \, VA\, 23005\, United States;X-APPLE-RADIUS=100;X-TITLE=Center Of The Y
 arniverse:geo:37.759013,-77.481456
END:VEVENT
BEGIN:VTIMEZONE
TZID:America/Detroit
X-LIC-LOCATION:America/Detroit
BEGIN:DAYLIGHT
DTSTART:20230312T030000
TZOFFSETFROM:-0500
TZOFFSETTO:-0400
TZNAME:EDT
END:DAYLIGHT
END:VTIMEZONE
END:VCALENDAR